BEGIN:VCALENDAR
VERSION:2.0
PRODID:-//ChamberMaster//Event Calendar 2.0//EN
METHOD:PUBLISH
X-PUBLISHED-TTL:P3D
REFRESH-INTERVAL:P3D
CALSCALE:GREGORIAN
BEGIN:VEVENT
DTSTART:20240418T213000Z
DTEND:20240418T223000Z
X-MICROSOFT-CDO-ALLDAYEVENT:FALSE
SUMMARY:Young Professionals Happy Hour
DESCRIPTION:Join the SouthWest Metro Chamber of Commerce for our Young Professionals Happy Hour!\n\n\n\n3rd Thursday of every month.\n\nFree to attend.
X-ALT-DESC;FMTTYPE=text/html:Join the SouthWest Metro Chamber of Commerce for our Young Professionals Happy Hour!<br />\n<br />\n3rd Thursday of every month.<br />\nFree to attend.
LOCATION:Hackamore Brewing Company 18651 Lake Drive E\, Chanhassen\, MN 55317
UID:e.498.13828
SEQUENCE:3
DTSTAMP:20260422T092053Z
URL:https://business.swmetrochamber.com/events/details/young-professionals-happy-hour-04-18-2024-13828
END:VEVENT

END:VCALENDAR
