BEGIN:VCALENDAR
VERSION:2.0
PRODID:-//ChamberMaster//Event Calendar 2.0//EN
METHOD:PUBLISH
X-PUBLISHED-TTL:P3D
REFRESH-INTERVAL:P3D
CALSCALE:GREGORIAN
BEGIN:VEVENT
DTSTART:20230511T230000Z
DTEND:20230512T000000Z
X-MICROSOFT-CDO-ALLDAYEVENT:FALSE
SUMMARY:Yoga in the Gardens at the Arb
DESCRIPTION:Join a spring session of our popular series\, including a variety of wellness practices in 2023. Gentle Yoga will be featured this time in the Azalea Collection (outdoors) with Matthew Tift. Please pre-register online\, Members $5 and Non-members $20 which always includes your daily admission. Bring your yoga mat\, water bottle and anything else you need and meet us in the fresh air!
X-ALT-DESC;FMTTYPE=text/html:<span style="background-color:rgb(255\, 255\, 255)\; color:rgb(51\, 51\, 51)\; font-family:trebuchet ms\,helvetica neue\,helvetica\,tahoma\,sans-serif\; font-size:16px">Join a spring session of our popular series\, including a variety of wellness practices in 2023. Gentle Yoga will be featured this time in the Azalea Collection (outdoors) with Matthew Tift. Please pre-register online\, Members $5 and Non-members $20 which always includes your daily admission. Bring your yoga mat\, water bottle and anything else you need and meet us in the fresh air!</span>
LOCATION:MN Landscape Arboretum (Azalea Collection) 3675 Arboretum Drive Chaska\, MN 55318
UID:e.498.13060
SEQUENCE:3
DTSTAMP:20260423T183421Z
URL:https://business.swmetrochamber.com/events/details/yoga-in-the-gardens-at-the-arb-13060
END:VEVENT

END:VCALENDAR
