BEGIN:VCALENDAR
VERSION:2.0
PRODID:-//ChamberMaster//Event Calendar 2.0//EN
METHOD:PUBLISH
X-PUBLISHED-TTL:P3D
REFRESH-INTERVAL:P3D
CALSCALE:GREGORIAN
BEGIN:VEVENT
DTSTART:20230525T230000Z
DTEND:20230526T000000Z
X-MICROSOFT-CDO-ALLDAYEVENT:FALSE
SUMMARY:Yoga in the Gardens at the Arb
DESCRIPTION:Join a spring session of our popular series\, including a variety of wellness practices in 2023. Vitality Vinyasa Flow will be featured this time in the Sensory Garden (outdoors) with Nancee Nystrom from onelove.yoga. Please pre-register online\, Members $5 and Non-members $20 which always includes your daily admission. Bring your yoga mat\, water bottle and anything else you need and meet us in the fresh air!
X-ALT-DESC;FMTTYPE=text/html:<span style="background-color:rgb(255\, 255\, 255)\; color:rgb(51\, 51\, 51)\; font-family:trebuchet ms\,helvetica neue\,helvetica\,tahoma\,sans-serif\; font-size:16px">Join a spring session of our popular series\, including a variety of wellness practices in 2023. Vitality Vinyasa Flow will be featured this time in the Sensory Garden (outdoors) with Nancee Nystrom from onelove.yoga. Please pre-register online\, Members $5 and Non-members $20 which always includes your daily admission. Bring your yoga mat\, water bottle and anything else you need and meet us in the fresh air!</span>
LOCATION:MN Landscape Arboretum (Sensory Garden) 3675 Arboretum Dr Chaska\, MN 55318
UID:e.498.13062
SEQUENCE:3
DTSTAMP:20260423T214501Z
URL:https://business.swmetrochamber.com/events/details/yoga-in-the-gardens-at-the-arb-05-25-2023-13062
END:VEVENT

END:VCALENDAR
