BEGIN:VCALENDAR
VERSION:2.0
PRODID:-//ChamberMaster//Event Calendar 2.0//EN
METHOD:PUBLISH
X-PUBLISHED-TTL:P3D
REFRESH-INTERVAL:P3D
CALSCALE:GREGORIAN
BEGIN:VEVENT
DTSTART:20241114T180000Z
DTEND:20241114T190000Z
X-MICROSOFT-CDO-ALLDAYEVENT:FALSE
SUMMARY:Yoga in the Gardens
DESCRIPTION:The Arboretum serves as a refuge to rejuvenate the mind\, body\, and spirit in one of the greenest spaces in Minnesota. Our Yoga in the Gardens series features year-round wellness classes led by local instructors. From traditional yoga and meditation classes to sound healing and Tai Chi\, you'll get to explore what yoga is truly about. Classes are held on select Thursdays and Sundays. Advanced registration is required for all classes\, and capacity is limited.
X-ALT-DESC;FMTTYPE=text/html:The Arboretum serves as a refuge to rejuvenate the mind\, body\, and spirit in one of the greenest spaces in Minnesota. Our Yoga in the Gardens series features year-round wellness classes led by local instructors. From traditional yoga and meditation classes to sound healing and Tai Chi\, you&rsquo\;ll get to explore what yoga is truly about. Classes are held on select Thursdays and Sundays. Advanced registration is required for all classes\, and capacity is limited.&nbsp\;
LOCATION:MN Landscape Arboretum 3675 Arboretum Dr Chaska\, MN 55318
UID:e.498.15082
SEQUENCE:3
DTSTAMP:20260422T033436Z
URL:https://business.swmetrochamber.com/events/details/yoga-in-the-gardens-11-14-2024-15082
END:VEVENT

END:VCALENDAR
