BEGIN:VCALENDAR
VERSION:2.0
PRODID:-//ChamberMaster//Event Calendar 2.0//EN
METHOD:PUBLISH
X-PUBLISHED-TTL:P3D
REFRESH-INTERVAL:P3D
CALSCALE:GREGORIAN
BEGIN:VEVENT
DTSTART:20210916T230000Z
DTEND:20210917T000000Z
X-MICROSOFT-CDO-ALLDAYEVENT:FALSE
SUMMARY:Yoga in the Gardens
DESCRIPTION:Plan now to join us for hour of evening yoga in the Ornamental Grass Collection. Bring your bottle of water and a yoga mat and join our instructor from Spirit of the Lake. All must pre-register gate admission.
X-ALT-DESC;FMTTYPE=text/html:Plan now to join us for hour of evening yoga in the Ornamental Grass Collection. Bring your bottle of water and a yoga mat and join our instructor from Spirit of the Lake. All must pre-register gate admission.
LOCATION:MN Landscape Arboretum\, 3675 Arboretum Dr\, Chaska\, MN 55318 Ornamental Grass Collection Garden
UID:e.498.12390
SEQUENCE:3
DTSTAMP:20260426T011035Z
URL:https://business.swmetrochamber.com/events/details/yoga-in-the-gardens-09-16-2021-12390
END:VEVENT

END:VCALENDAR
