BEGIN:VCALENDAR
VERSION:2.0
PRODID:-//ChamberMaster//Event Calendar 2.0//EN
METHOD:PUBLISH
X-PUBLISHED-TTL:P3D
REFRESH-INTERVAL:P3D
CALSCALE:GREGORIAN
BEGIN:VEVENT
DTSTART:20240822T210000Z
DTEND:20240822T230000Z
X-MICROSOFT-CDO-ALLDAYEVENT:FALSE
SUMMARY:Women's Biz + WeMN Cocktails & Conversations
DESCRIPTION:Join the SouthWest Metro Chamber Women's Biz group for happy hour at Med Box Grill in collaboration with the WeMN (Women Entrepreneurs of Minnesota). Learn best practices and enjoy networking with appetizers and a cocktail!
X-ALT-DESC;FMTTYPE=text/html:Join the SouthWest Metro Chamber Women&#39\;s Biz group for happy hour at Med Box Grill in collaboration with the WeMN (Women Entrepreneurs of Minnesota). Learn best practices and enjoy networking with appetizers and a cocktail!&nbsp\;
LOCATION:Med Box Grill 600 Market St\, Suite 160\, Chanhassen MN 55317
UID:e.498.14756
SEQUENCE:3
DTSTAMP:20260422T035452Z
URL:https://business.swmetrochamber.com/events/details/women-s-biz-wemn-cocktails-conversations-14756
END:VEVENT

END:VCALENDAR
