BEGIN:VCALENDAR
VERSION:2.0
PRODID:-//ChamberMaster//Event Calendar 2.0//EN
METHOD:PUBLISH
X-PUBLISHED-TTL:P3D
REFRESH-INTERVAL:P3D
CALSCALE:GREGORIAN
BEGIN:VEVENT
DTSTART:20140610T161500Z
DTEND:20140610T173000Z
X-MICROSOFT-CDO-ALLDAYEVENT:FALSE
SUMMARY:Women's BIZ: The Very Hairy Truth
DESCRIPTION:Refine Laser & Electrolysis is opening their doors to teach us about all things HAIR! Always a great time and lots of fun\, Deb & Jan are truly experts in their field and will help us find ways to feel and look our best.\n\n\nLunch will be served!!
X-ALT-DESC;FMTTYPE=text/html:<br />\nRefine Laser &amp\; Electrolysis is opening their doors to teach us about all things HAIR! Always a great time and lots of fun\, Deb &amp\; Jan are truly experts in their field and will help us find ways to feel and look our best.\n<div style="text-align: center\;"><br />\nLunch will be served!!</div>\n\n<div style="text-align: center\;">&nbsp\;</div>\n
LOCATION:Refine Laser & Electrolysis 7801 Park Drive Suite H Chanhassen\, MN
UID:e.498.6430
SEQUENCE:3
DTSTAMP:20260425T212102Z
URL:https://business.swmetrochamber.com/events/details/women-s-biz-the-very-hairy-truth-06-10-2014-6430
END:VEVENT

END:VCALENDAR
