BEGIN:VCALENDAR
VERSION:2.0
PRODID:-//ChamberMaster//Event Calendar 2.0//EN
METHOD:PUBLISH
X-PUBLISHED-TTL:P3D
REFRESH-INTERVAL:P3D
CALSCALE:GREGORIAN
BEGIN:VEVENT
DTSTART:20170413T163000Z
DTEND:20170413T180000Z
X-MICROSOFT-CDO-ALLDAYEVENT:FALSE
SUMMARY:Women's BIZ- Raining Healthy Habits
DESCRIPTION:Join us for our next Women's Biz on Thursday\, April 13th at the Holiday Inn Express & Suites!\n\n\n\nRaining Healthy Habits by Lesley Fahey from Rain International\n\n\n\nIf you're a busy gal  looking for easy\, healthy recipes and would enjoy learning hands on how to make in the comfort of other fun women\, join us for a lunch of learning while having fun.  This class will feature some basic nutritional knowledge\, easy to remember facts to take home with you\, and healthy recipes. Also\,  low-cost ways to reach your fitness goals without equipment\, and an 8-minute workout card with an instructional video link as well to take home. Expect the development of a new cooking skill and maybe a new-found love of healthy cooking!!   \n\n \n\nOur chef Lesley Fahey has over 20 years of food preparation experience and is considered a health expert. Lesley says " I love creating amazing food.  I love going to people houses and creating meals from the contents of their cupboards!  It is a real fun thing to show people how much you can do with a few ingredients.".  Lesley will teach us how to prepare healthy meals that are not only simple and practical but cost effective also.\n\n \n\nThis a great learning and networking opportunity!  You will be provided a fantastic affordable healthy lunch!
X-ALT-DESC;FMTTYPE=text/html:<div style="text-align: center\;"><span style="font-size:12px\;"><span style="font-family:arial\;"><span style="color:black\;"><strong>Join us for our next Women&#39\;s Biz on Thursday\, April 13th at the Holiday Inn Express &amp\; Suites!<br />\n<br />\n<span style="font-size:14px\;">Raining Healthy Habits by Lesley Fahey from Rain International</span></strong></span></span></span></div>\n\n<div><br />\n<span style="font-size:12px\;"><span style="font-family:arial\;"><span style="color:black\;">If you&rsquo\;re a busy gal &nbsp\;looking for easy\, healthy recipes and would enjoy learning hands on how to make in the comfort of other fun women\, join us for a lunch of learning while having fun.&nbsp\; <span style="background-image:initial\;background-position:initial\;background-size:initial\;background-repeat:initial\;background-attachment:initial\;background-origin:initial\;background-clip:initial\;">This class will feature some basic nutritional knowledge\, easy to remember facts to take home with you\, and healthy recipes.</span></span> <span style="color:black\;">Also\, &nbsp\;low-cost ways to reach your fitness goals without equipment\, and an 8-minute workout card with an instructional&nbsp\;video link as well to take home.&nbsp\;</span><span style="color:black\;">Expect the development of a new cooking skill and maybe a new-found love of healthy cooking!! &nbsp\;&nbsp\;</span><br />\n&nbsp\;<br />\n<span style="color:black\;">Our chef <span style="background-image:initial\;background-position:initial\;background-size:initial\;background-repeat:initial\;background-attachment:initial\;background-origin:initial\;background-clip:initial\;">Lesley</span> Fahey has over 20 years of food preparation experience and is considered a health expert. <span style="background-image:initial\;background-position:initial\;background-size:initial\;background-repeat:initial\;background-attachment:initial\;background-origin:initial\;background-clip:initial\;">Lesley says &ldquo\; I love creating amazing food.&nbsp\; I love going to people houses and creating meals from the contents of their cupboards!&nbsp\; It is a real fun thing to show people how much you can do with a few ingredients.&rdquo\;</span>.&nbsp\; <span style="background-image:initial\;background-position:initial\;background-size:initial\;background-repeat:initial\;background-attachment:initial\;background-origin:initial\;background-clip:initial\;">Lesley will teach us how to prepare healthy meals that are not only simple and practical but cost effective also.</span></span></span></span><br />\n&nbsp\;</div>\n\n<div><span style="font-size:12px\;"><span style="font-family:arial\;">This a great learning and networking opportunity! &nbsp\;You will be provided a fantastic affordable&nbsp\;healthy lunch!</span></span></div>\n\n<div><br />\n&nbsp\;</div>\n
LOCATION:Holiday Inn Express Hotel & Suites 7855 Centruy Blvd. Chanhassen\, MN 55317
UID:e.498.8234
SEQUENCE:3
DTSTAMP:20260423T114819Z
URL:https://business.swmetrochamber.com/events/details/women-s-biz-raining-healthy-habits-8234
END:VEVENT

END:VCALENDAR
