BEGIN:VCALENDAR
VERSION:2.0
PRODID:-//ChamberMaster//Event Calendar 2.0//EN
METHOD:PUBLISH
X-PUBLISHED-TTL:P3D
REFRESH-INTERVAL:P3D
CALSCALE:GREGORIAN
BEGIN:VEVENT
DTSTART:20170627T220000Z
DTEND:20170628T003000Z
X-MICROSOFT-CDO-ALLDAYEVENT:FALSE
SUMMARY:Women's BIZ Corks & Canvas Afterhours Event
DESCRIPTION:The SW Chamber and Corks and Canvas are teaming up to create a unique experience for everyone to enjoy!   Join us at 5 p.m. on June 27th at Buca restaurant in Eden Prairie for dinner\, drinks and a little bit of Picasso!    A Corks and Canvas professional artist will lead you step-by-step to help you create your very own masterpiece.   Best part -- No Painting Experience Required!  All you need is a desire to have fun\, relax and unwind\, we'll supply the rest!  \n\n\n\nNote:  Appetizers hosted by Buca and the Chamber\; wine/drinks is cash bar.\n\n\n\nPLEASE NOTE:  To have this event there is a 15 person registration minimum. If we don't reach that by the deadline and the event is canceled\,  you will be reimbursed for your registration fee. \n\n\n\n__________________________________________________________\n\nMORE INFORMATION ABOUT: Corks and Canvas is the painting company with cocktails (or cupcakes for the kiddos) that specializes in PRIVATE EVENTS!  Whether you are looking to host a girls night out\, fundraiser\, corporate event\, holiday party\, couples night\, birthday party  we will work with you to create an entertaining\, unique experience that everyone will enjoy!   You pick the theme\, date and location and we do the rest!   Our main goal is to deliver an awesome\, stress-free event that guests will love and remember!   Best of all .No Painting Experience Required!    The next time you are asked to host an event\, try something fresh and new and walk away with a sense of accomplishment and your very own Rembrandt.\n\nCorks and Canvas offers these inspiring painting events at local restaurants\, wineries\, and golf courses.  We can also come to your location or partner with a venue that you recommend.   Led by skilled artists\, you and your group will be guided step-by-step in the creation of your painting. From abstracts to landscapes to still life's\, everyone takes home their very own masterpiece.
X-ALT-DESC;FMTTYPE=text/html:<span style="font-size:14px\;"><span style="font-family:cambria\,serif\;">The SW Chamber and Corks and Canvas are teaming up to create a unique experience for everyone to enjoy!&nbsp\;&nbsp\; Join us at <strong>5 p.m. on June 27<sup>th</sup></strong> at Buca restaurant in Eden Prairie for dinner\, drinks and a little bit of Picasso!&nbsp\;&nbsp\;&nbsp\; A Corks and Canvas professional artist will lead you step-by-step to help you create your very own masterpiece.&nbsp\;&nbsp\; Best <strong><span style="font-weight:normal\;">part -- </span></strong><strong><em><span style="color:#960000\;">No Painting Experience Required!&nbsp\; </span></em></strong><strong><span style="font-weight:normal\;">All you need is a desire to have fun\, relax and unwind\, we&rsquo\;ll supply the rest!&nbsp\;&nbsp\;</span></strong></span></span><br />\n<br />\n<strong><em><span style="color:#555555\;"><span style="font-family:arial\,sans-serif\;"><span style="font-size:9.5pt\;">Note: &nbsp\;Appetizers hosted by Buca and the Chamber\; wine/drinks is cash bar.</span></span></span></em></strong><br />\n<br />\n<strong>PLEASE NOTE:&nbsp\;</strong>&nbsp\;To have this event there is a 15 person registration minimum. If we don&#39\;t reach that by the deadline and the event is canceled\, &nbsp\;you will be reimbursed for your registration fee.&nbsp\;<br />\n<br />\n__________________________________________________________<br />\n<span style="color:black\;"><span style="font-family:cambria\,serif\;"><u>MORE INFORMATION ABOUT</u>: Corks and Canvas is the painting company with cocktails (or cupcakes for the kiddos) that specializes in <strong>PRIVATE EVENTS!&nbsp\;</strong> Whether you are looking to host a girls night out\, fundraiser\, corporate event\, holiday party\, couples night\, birthday party&hellip\; we will work with you to create an entertaining\, unique experience that everyone will enjoy!&nbsp\;&nbsp\; You pick the theme\, date and location and we do the rest! &nbsp\; Our main goal is to deliver an awesome\, stress-free event that guests will love and remember!&nbsp\;&nbsp\;&nbsp\;Best of all&hellip\;.</span></span><strong><span style="color:maroon\;"><span style="font-family:cambria\,serif\;">No Painting Experience Required!</span></span></strong>&nbsp\;&nbsp\;&nbsp\;<span style="color:black\;"><span style="font-family:cambria\,serif\;"> The next time you are asked to host an event\, try something fresh and new and walk away with a sense of accomplishment and your very own Rembrandt.</span></span><br />\n<span style="color:black\;"><span style="font-family:cambria\,serif\;">Corks and Canvas offers these inspiring painting events at local restaurants\, wineries\, and golf courses.&nbsp\; We can also come to your location or partner with a venue that you recommend.&nbsp\;&nbsp\; Led by skilled artists\, you and your group will be guided step-by-step in the creation of your painting. From abstracts to landscapes to still life&rsquo\;s\, everyone takes home their very own masterpiece.</span></span><br />\n<br />\n<br />\n&nbsp\;
LOCATION:Buca di Beppo 7711 Mitchell Road Eden Prairie\, MN 55344
UID:e.498.8253
SEQUENCE:3
DTSTAMP:20260423T084634Z
URL:https://business.swmetrochamber.com/events/details/women-s-biz-corks-canvas-afterhours-event-8253
END:VEVENT

END:VCALENDAR
