BEGIN:VCALENDAR
VERSION:2.0
PRODID:-//ChamberMaster//Event Calendar 2.0//EN
METHOD:PUBLISH
X-PUBLISHED-TTL:P3D
REFRESH-INTERVAL:P3D
CALSCALE:GREGORIAN
BEGIN:VEVENT
DTSTART:20241122T000000Z
DTEND:20241122T030000Z
X-MICROSOFT-CDO-ALLDAYEVENT:FALSE
SUMMARY:Winter Lights - Opening Night
DESCRIPTION:Be among the first to experience the magic of Winter Lights\, and join the fun as we "officially" light up the Arboretum. The lighting ceremony begins at 6:30 p.m. in the Oswald Visitor Center with a welcome and thank you to Winter Lights Sponsors and partners and a countdown to light up the Great Hall. Enjoy winter-themed decor indoors and outdoors with live music from the Holiday Heralds. Guests are free to explore the outdoor Winter Lights walking tour at their own pace throughout the event. Please pre-register on the website.
X-ALT-DESC;FMTTYPE=text/html:<span style="font-family:open sans\,sans-serif\; font-size:18px">Be among the first to experience the magic of&nbsp\;</span><a href="https://arb.umn.edu/winterlights2024" style="color: rgb(144\, 0\, 33)\; box-sizing: border-box\; text-decoration-line: none\; border-bottom: 1px solid rgb(144\, 0\, 33)\; font-family: &quot\;Open Sans&quot\;\, sans-serif\; font-size: 18px\;" target="_blank">Winter Lights</a><span style="font-family:open sans\,sans-serif\; font-size:18px">\, and join the fun as we &ldquo\;officially&rdquo\; light up the Arboretum. The lighting ceremony begins at 6:30 p.m. in the Oswald Visitor Center with a welcome and thank you to Winter Lights Sponsors and partners and a countdown to light up the Great Hall. Enjoy winter-themed decor indoors and outdoors with live music from the Holiday Heralds. Guests are free to explore the outdoor Winter Lights walking tour at their own pace throughout the event. Please pre-register on the website.</span>
LOCATION:MN Landscape Arboretum 3675 Arboretum Dr Chaska\, MN 55318
UID:e.498.15182
SEQUENCE:3
DTSTAMP:20260422T000154Z
URL:https://business.swmetrochamber.com/events/details/winter-lights-opening-night-15182
END:VEVENT

END:VCALENDAR
