BEGIN:VCALENDAR
VERSION:2.0
PRODID:-//ChamberMaster//Event Calendar 2.0//EN
METHOD:PUBLISH
X-PUBLISHED-TTL:P3D
REFRESH-INTERVAL:P3D
CALSCALE:GREGORIAN
BEGIN:VEVENT
DTSTART:20241231T230000Z
DTEND:20250101T040000Z
X-MICROSOFT-CDO-ALLDAYEVENT:FALSE
SUMMARY:Winter Lights\, New Years Eve
DESCRIPTION:Bring family and friends together to celebrate the end of 2024 with a magical walk through the Arboretum's Winter Lights display! Stroll through the gardens decked out with light displays highlighting flowers\, trees and the beauty of nature on a one-mile\, self-guided walk. New this year\, visitors can explore a woodland-themed light display. Additional activities will include: family games\, photo booth\, Wish Tree\, music from Traveled Ground and a craft to take home. Please pre-register on the website early!
X-ALT-DESC;FMTTYPE=text/html:<p>Bring family and friends together to celebrate the end of 2024 with&nbsp\;a magical walk through the Arboretum&rsquo\;s Winter Lights display! Stroll through the gardens decked out with light displays highlighting flowers\, trees and the beauty of nature on a one-mile\, self-guided walk.&nbsp\;New this year\, visitors can explore a woodland-themed light display. Additional activities will include: family games\, photo booth\, Wish Tree\, music from&nbsp\;<strong>Traveled Ground</strong>&nbsp\;and a craft to take home. Please pre-register on the website early!</p>\n
LOCATION:MN Landscape Arboretum 3675 Arboretum Dr Chaska\, MN 55318
UID:e.498.15185
SEQUENCE:3
DTSTAMP:20260421T223043Z
URL:https://business.swmetrochamber.com/events/details/winter-lights-new-years-eve-15185
END:VEVENT

END:VCALENDAR
