BEGIN:VCALENDAR
VERSION:2.0
PRODID:-//ChamberMaster//Event Calendar 2.0//EN
METHOD:PUBLISH
X-PUBLISHED-TTL:P3D
REFRESH-INTERVAL:P3D
CALSCALE:GREGORIAN
BEGIN:VEVENT
DTSTART:20241212T230000Z
DTEND:20241213T040000Z
X-MICROSOFT-CDO-ALLDAYEVENT:FALSE
SUMMARY:Winter Lights - Date Night
DESCRIPTION:Make reservations for a romantic night under the stars with your favorite person. Stroll through the light displays with smaller\, adult-only crowds\, listen to live music and take a dance class from Costa Rica Ballroom Dance Studios. New this year\, visitors can explore a woodland-themed light display. Plus\, revisit the 16-foot Weeping Willow and walk through a giant apple\, a nod to the Arboretum and Horticultural Research Center as the Home of the Honeycrisp. Please pre-register on the website!
X-ALT-DESC;FMTTYPE=text/html:<span style="font-family:open sans\,sans-serif\; font-size:18px">Make reservations for a romantic night under the stars with your favorite person. Stroll through the light displays with smaller\, adult-only crowds\, listen to live music and take a dance class from&nbsp\;<a href="https://www.costaricaballroom.com/" style="color: rgb(144\, 0\, 33)\; box-sizing: border-box\; text-decoration-line: none\; border-bottom: 1px solid rgb(144\, 0\, 33)\;" target="_blank">Costa Rica Ballroom Dance Studios</a>.</span><span style="font-family:open sans\,sans-serif\; font-size:18px">&nbsp\;</span><span style="font-family:open sans\,sans-serif\; font-size:18px">New this year\, visitors can explore a woodland-themed light display. Plus\, revisit the 16-foot Weeping Willow and walk through a giant apple\, a nod to the Arboretum and Horticultural Research Center as the Home of the Honeycrisp. Please pre-register on the website!</span>
LOCATION:MN Landscape Arboretum 3675 Arboretum Dr Chaska\, MN 55318
UID:e.498.15184
SEQUENCE:3
DTSTAMP:20260422T003047Z
URL:https://business.swmetrochamber.com/events/details/winter-lights-date-night-12-12-2024-15184
END:VEVENT

END:VCALENDAR
