BEGIN:VCALENDAR
VERSION:2.0
PRODID:-//ChamberMaster//Event Calendar 2.0//EN
METHOD:PUBLISH
X-PUBLISHED-TTL:P3D
REFRESH-INTERVAL:P3D
CALSCALE:GREGORIAN
BEGIN:VEVENT
DTSTART:20241219T230000Z
DTEND:20241220T030000Z
X-MICROSOFT-CDO-ALLDAYEVENT:FALSE
SUMMARY:Winter Lights at the Arb - Family Night
DESCRIPTION:This family-friendly evening features smaller crowds\, hot cocoa and cookies and a craft project. Get some fresh air before bedtime\, and bring your children to explore the Arboretum at night as they walk through the magical Winter Lights displays under the beautiful night skies. New this year\, visitors can explore a woodland-themed light display. Plus\, revisit the 16-foot Weeping Willow and walk through a giant apple! Please pre-register on the website for admission.
X-ALT-DESC;FMTTYPE=text/html:<span style="font-family:open sans\,sans-serif\; font-size:18px">This family-friendly evening features smaller crowds\, hot cocoa and cookies and a craft project. Get some fresh air before bedtime\, and bring your children to explore the Arboretum at night as they walk through the magical&nbsp\;</span><a href="https://arb.umn.edu/winterlights2024" style="color: rgb(144\, 0\, 33)\; box-sizing: border-box\; text-decoration-line: none\; border-bottom: 1px solid rgb(144\, 0\, 33)\; font-family: &quot\;Open Sans&quot\;\, sans-serif\; font-size: 18px\;" target="_blank">Winter Lights</a><span style="font-family:open sans\,sans-serif\; font-size:18px">&nbsp\;displays under the beautiful night skies.</span><span style="font-family:open sans\,sans-serif\; font-size:18px">&nbsp\;</span><span style="font-family:open sans\,sans-serif\; font-size:18px">New this year\, visitors can explore a woodland-themed light display. Plus\, revisit the 16-foot Weeping Willow and walk through a giant apple! Please pre-register on the website for admission.</span>
LOCATION:MN Landscape Arboretum 3675 Arboretum Dr Chaska\, MN 55318
UID:e.498.15181
SEQUENCE:3
DTSTAMP:20260421T224613Z
URL:https://business.swmetrochamber.com/events/details/winter-lights-at-the-arb-family-night-12-19-2024-15181
END:VEVENT

END:VCALENDAR
