BEGIN:VCALENDAR
VERSION:2.0
PRODID:-//ChamberMaster//Event Calendar 2.0//EN
METHOD:PUBLISH
X-PUBLISHED-TTL:P3D
REFRESH-INTERVAL:P3D
CALSCALE:GREGORIAN
BEGIN:VEVENT
DTSTART:20240721T160000Z
DTEND:20240721T190000Z
X-MICROSOFT-CDO-ALLDAYEVENT:FALSE
SUMMARY:Walk Bike Downtown Chaska Ribbon Cutting
DESCRIPTION:Join the Chamber in celebrating the new Chaska Underpass and Paseo with a ribbon cutting! There will also be games\, live music and food trucks! Take the afternoon to explore downtown Chaska!
X-ALT-DESC;FMTTYPE=text/html:Join the Chamber in celebrating the new Chaska Underpass and Paseo with a ribbon cutting! There will also be games\, live music and food trucks! Take the afternoon to explore downtown Chaska!&nbsp\;
LOCATION:Downtown Chaska (Near the Chaska Mill Building)
UID:e.498.14749
SEQUENCE:3
DTSTAMP:20260422T035151Z
URL:https://business.swmetrochamber.com/events/details/walk-bike-downtown-chaska-ribbon-cutting-14749
END:VEVENT

END:VCALENDAR
