BEGIN:VCALENDAR
VERSION:2.0
PRODID:-//ChamberMaster//Event Calendar 2.0//EN
METHOD:PUBLISH
X-PUBLISHED-TTL:P3D
REFRESH-INTERVAL:P3D
CALSCALE:GREGORIAN
BEGIN:VEVENT
DTSTART:20240721T160000Z
DTEND:20240721T210000Z
X-MICROSOFT-CDO-ALLDAYEVENT:FALSE
SUMMARY:Volksfest Market
DESCRIPTION:Join the SouthWest Metro Chamber of Commerce for the Volksfest Market! This market is a part of the large Victoria Volksfest event. The Volksfest has been a major event in Victoria for many years\, and includes live music\, food\, drinks\, kids' activities and sports activities.\n\n\n\nThis year\, all Volksfest activities\, including the market\, will be located at Victoria Lions Park.\n\n\n\nThe market will include a little of everything: food vendors\, food trucks\, farm goods\, arts\, crafts and local businesses. It's a true community market!\n\n\n\nQuestions? Please Email Autumn at market-manager@swmetrochamber.com
X-ALT-DESC;FMTTYPE=text/html:Join the SouthWest Metro Chamber of Commerce for the Volksfest Market! This market is a part of the large Victoria Volksfest event. The Volksfest has been a major event in Victoria for many years\, and includes live music\, food\, drinks\, kids&#39\; activities and sports activities.<br />\n<br />\nThis year\, all Volksfest activities\, including the market\, will be located at Victoria Lions Park.<br />\n<br />\nThe market will include a little of everything: food vendors\, food trucks\, farm goods\, arts\, crafts and local businesses. It&#39\;s a true community market!<br />\n<br />\nQuestions? Please Email Autumn at <a href="mailto:market-manager@swmetrochamber.com">market-manager@swmetrochamber.com</a><br />\n&nbsp\;
LOCATION:Victoria Lions Park
UID:e.498.14653
SEQUENCE:3
DTSTAMP:20260422T051036Z
URL:https://business.swmetrochamber.com/events/details/volkfest-market-07-21-2024-14653
END:VEVENT

END:VCALENDAR
