BEGIN:VCALENDAR
VERSION:2.0
PRODID:-//ChamberMaster//Event Calendar 2.0//EN
METHOD:PUBLISH
X-PUBLISHED-TTL:P3D
REFRESH-INTERVAL:P3D
CALSCALE:GREGORIAN
BEGIN:VEVENT
DTSTART:20241030T210000Z
DTEND:20241031T000000Z
X-MICROSOFT-CDO-ALLDAYEVENT:FALSE
SUMMARY:The Plaza At Hazeltine Grand Opening Ribbon Cutting
DESCRIPTION:The Plaza at Hazeltine is celebrating their grand opening with a ribbon cutting!\n\nEnjoy food\, drinks\, live entertainment\, exciting prizes an guided tours of the new space!
X-ALT-DESC;FMTTYPE=text/html:The Plaza at Hazeltine is celebrating their grand opening with a ribbon cutting!<br />\nEnjoy food\, drinks\, live entertainment\, exciting prizes an guided tours of the new space!
LOCATION:1130 Hazeltine Blvd\, Chaska MN\, 55318
UID:e.498.15076
SEQUENCE:3
DTSTAMP:20260422T020653Z
URL:https://business.swmetrochamber.com/events/details/the-plaza-at-hazeltine-grand-opening-ribbon-cutting-15076
END:VEVENT

END:VCALENDAR
