BEGIN:VCALENDAR
VERSION:2.0
PRODID:-//ChamberMaster//Event Calendar 2.0//EN
METHOD:PUBLISH
X-PUBLISHED-TTL:P3D
REFRESH-INTERVAL:P3D
CALSCALE:GREGORIAN
BEGIN:VEVENT
DTSTART:20250208T190000Z
DTEND:20250208T200000Z
X-MICROSOFT-CDO-ALLDAYEVENT:FALSE
SUMMARY:The O.G. Coffee & Wine Bar Ribbon Cutting
DESCRIPTION:Join the Southwest Metro Chamber of Commerce with a ribbon cutting for the The O.G. Coffee & Wine Bar!
X-ALT-DESC;FMTTYPE=text/html:Join the Southwest Metro Chamber of Commerce with a ribbon cutting for the The O.G. Coffee &amp\; Wine Bar!
LOCATION:The O.G. Coffee & Wine Bar 600 Market St\, Suite #110\, Chanhassen MN\, 55317
UID:e.498.15696
SEQUENCE:3
DTSTAMP:20260422T035002Z
URL:https://business.swmetrochamber.com/events/details/the-o-g-coffee-wine-bar-ribbon-cutting-15696
END:VEVENT

END:VCALENDAR
