BEGIN:VCALENDAR
VERSION:2.0
PRODID:-//ChamberMaster//Event Calendar 2.0//EN
METHOD:PUBLISH
X-PUBLISHED-TTL:P3D
REFRESH-INTERVAL:P3D
CALSCALE:GREGORIAN
BEGIN:VEVENT
DTSTART:20230624T150000Z
DTEND:20230624T163000Z
X-MICROSOFT-CDO-ALLDAYEVENT:FALSE
SUMMARY:The Great American Garden Road Trip\, Lecture
DESCRIPTION:Join Abra Lee for a public lecture   The Great American Garden Road Trip   illuminating the historic and influential figures in Black garden history. From an extraordinary tale of espionage in the name of flowers\, to familial ties to the Harlem Renaissance\, Black America has long sown seeds of greatness in the garden. Tickets range from $10 to $25\, please visit the website for complete details.
X-ALT-DESC;FMTTYPE=text/html:<p>Join Abra Lee for a public lecture &mdash\;&nbsp\;<em>The Great American Garden Road Trip&nbsp\;</em>&mdash\; illuminating the historic and influential figures in Black garden history. From an extraordinary tale of espionage in the name of flowers\, to familial ties to the Harlem Renaissance\, Black America has long sown seeds of greatness in the garden. Tickets range from $10 to $25\, please visit the website for complete details.</p>\n
LOCATION:MN Landscape Arboretum - MacMillan Auditorium 3675 Arboretum Dr Chaska\, MN 55318
UID:e.498.13114
SEQUENCE:3
DTSTAMP:20260423T172212Z
URL:https://business.swmetrochamber.com/events/details/the-great-american-garden-road-trip-lecture-13114
END:VEVENT

END:VCALENDAR
