BEGIN:VCALENDAR
VERSION:2.0
PRODID:-//ChamberMaster//Event Calendar 2.0//EN
METHOD:PUBLISH
X-PUBLISHED-TTL:P3D
REFRESH-INTERVAL:P3D
CALSCALE:GREGORIAN
BEGIN:VEVENT
DTSTART:20250203T170000Z
DTEND:20250203T180000Z
X-MICROSOFT-CDO-ALLDAYEVENT:FALSE
SUMMARY:The Edge Nutrition Ribbon Cutting
DESCRIPTION:Join the Southwest Metro Chamber of Commerce with a ribbon cutting for the The Edge Nutrition!
X-ALT-DESC;FMTTYPE=text/html:Join the Southwest Metro Chamber of Commerce with a ribbon cutting for the The Edge Nutrition!
LOCATION:The Edge Nutrition 600 Market St\, Suite #105\, Chanhassen MN\, 55317
UID:e.498.15480
SEQUENCE:3
DTSTAMP:20260422T000822Z
URL:https://business.swmetrochamber.com/events/details/the-edge-nutrition-ribbon-cutting-15480
END:VEVENT

END:VCALENDAR
