BEGIN:VCALENDAR
VERSION:2.0
PRODID:-//ChamberMaster//Event Calendar 2.0//EN
METHOD:PUBLISH
X-PUBLISHED-TTL:P3D
REFRESH-INTERVAL:P3D
CALSCALE:GREGORIAN
BEGIN:VEVENT
DTSTART:20260502T150000Z
DTEND:20260502T180000Z
X-MICROSOFT-CDO-ALLDAYEVENT:FALSE
SUMMARY:Spring Craft Fair at Carver Ridge Senior Living
DESCRIPTION:Spring Craft Fair at Carver Ridge Senior Living! Handmade cards\, preserved goods\, holiday art\, 3D printed toys & fidgets\, resin art\, crocheted goods\, worry stones and more! *Goodwill donations in exchange for homebaked goods to support the Alzheimer's Association.
X-ALT-DESC;FMTTYPE=text/html:Spring Craft Fair at Carver Ridge Senior Living! Handmade cards\, preserved goods\, holiday art\, 3D printed toys &amp\; fidgets\, resin art\, crocheted goods\, worry stones and more! *Goodwill donations in exchange for homebaked goods to support the Alzheimer&#39\;s Association.
LOCATION:Carver Ridge Senior Living 920 6th Street West Carver\, MN 55315
UID:e.498.17964
SEQUENCE:3
DTSTAMP:20260424T230019Z
URL:https://business.swmetrochamber.com/events/details/spring-craft-fair-at-carver-ridge-senior-living-17964
END:VEVENT

END:VCALENDAR
