BEGIN:VCALENDAR
VERSION:2.0
PRODID:-//ChamberMaster//Event Calendar 2.0//EN
METHOD:PUBLISH
X-PUBLISHED-TTL:P3D
REFRESH-INTERVAL:P3D
CALSCALE:GREGORIAN
BEGIN:VEVENT
DTSTART:20250313T210000Z
DTEND:20250313T230000Z
X-MICROSOFT-CDO-ALLDAYEVENT:FALSE
SUMMARY:SouthWest Metro Young Professionals: St. Patrick’s Day Celebration!
DESCRIPTION:Join the SouthWest Metro Chamber Young Professionals for a St. Patrick's Day celebration at Hackamore Brewing Company on Thursday\, March 14th\, from 4:00 6:00 PM!\n\nCome decked out in your best green attire and enjoy an evening of networking\, great brews\, and festive fun. We've reserved a golf simulator bay for the evening\, so bring your A-game and take some swings while mingling with fellow young professionals.\n\nDon't miss this chance to connect\, celebrate\, and toast to good luck with the best in the Southwest Metro!    \n\n  Location: Hackamore Brewing Company\n\n  Date: Thursday\, March 13th\n\n  Time: 4:00 6:00 PM\n\n  Dress Code: Wear green for extra luck!\n\nWe can't wait to see you there register today!
X-ALT-DESC;FMTTYPE=text/html:<p data-end="260" data-start="81">Join the <strong data-end="137" data-start="90">SouthWest Metro Chamber Young Professionals</strong> for a <strong data-end="177" data-start="144">St. Patrick&rsquo\;s Day celebration</strong> at <strong data-end="210" data-start="181">Hackamore Brewing Company</strong> on <strong data-end="258" data-start="214">Thursday\, March 14th\, from 4:00&ndash\;6:00 PM!</strong></p>\n\n<p data-end="587" data-start="262">Come decked out in your best <strong data-end="307" data-start="291">green attire</strong> and enjoy an evening of networking\, great brews\, and festive fun. We&rsquo\;ve reserved a <strong data-end="413" data-start="391">golf simulator bay</strong> for the evening\, so bring your A-game and take some swings while mingling with fellow young professionals.</p>\n\n<p data-end="706" data-start="589"><strong data-end="699" data-start="589">Don&rsquo\;t miss this chance to connect\, celebrate\, and toast to good luck with the best in the Southwest Metro!</strong> &#127867\;&#9752\;&#65039\;</p>\n\n<p data-end="867" data-start="708">&#128205\; <strong data-end="724" data-start="711">Location:</strong> Hackamore Brewing Company<br data-end="753" data-start="750" />\n&#128197\; <strong data-end="765" data-start="756">Date:</strong> Thursday\, March 13th<br data-end="789" data-start="786" />\n&#9200\; <strong data-end="800" data-start="791">Time:</strong> 4:00&ndash\;6:00 PM<br data-end="816" data-start="813" />\n&#128085\; <strong data-end="834" data-start="819">Dress Code:</strong> Wear <strong data-end="849" data-start="840">green</strong> for extra luck!</p>\n\n<p data-end="922" data-is-last-node="" data-is-only-node="" data-start="869">We can&rsquo\;t wait to see you there&mdash\;<strong data-end="919" data-start="900">register today!</strong> &#127808\;</p>\n
LOCATION:Hackamore Brewing Company 18651 Lake Dr E\, Chanhassen MN\, 55317
UID:e.498.15807
SEQUENCE:3
DTSTAMP:20260421T190100Z
URL:https://business.swmetrochamber.com/events/details/southwest-metro-young-professionals-st-patrick-s-day-celebration-15807
END:VEVENT

END:VCALENDAR
