BEGIN:VCALENDAR
VERSION:2.0
PRODID:-//ChamberMaster//Event Calendar 2.0//EN
METHOD:PUBLISH
X-PUBLISHED-TTL:P3D
REFRESH-INTERVAL:P3D
CALSCALE:GREGORIAN
BEGIN:VEVENT
DTSTART:20241123T180000Z
DTEND:20241123T220000Z
X-MICROSOFT-CDO-ALLDAYEVENT:FALSE
SUMMARY:SouthWest Metro Holiday Market
DESCRIPTION:Celebrate the joys of the Holiday Season at the SouthWest Metro Holiday Market! Discover vendors of local arts\, crafts\, food\, and more! Make this your indoor destination for fun\, seasonally inspired shopping!\n\n\n\nIf you have questions\, please contact Autumn. \n\nEmail: market-manager@swmetrochamber.com   Phone: 612-619-0558
X-ALT-DESC;FMTTYPE=text/html:<div style="text-align: center\;"><span style="text-align: center\;">Celebrate the joys of the Holiday Season at the SouthWest Metro Holiday Market! Discover&nbsp\;vendors of local arts\, crafts\, food\,&nbsp\;and more! Make this your indoor destination for fun\, seasonally inspired shopping!</span><br />\n<br />\n<span style="font-family: &quot\;times new roman&quot\;\, serif\;"><span style="font-size: 12pt\;">If you have questions\, please contact</span></span>&nbsp\;<span style="font-family: &quot\;times new roman&quot\;\, serif\;"><span style="font-size: 12pt\;">Autumn.</span></span>&nbsp\;<br />\n<span style="font-family: &quot\;times new roman&quot\;\, serif\;"><span style="font-size: 12pt\;">Email:&nbsp\;</span></span><a href="mailto:market-manager@swmetrochamber.com"><span style="font-family: &quot\;times new roman&quot\;\, serif\;"><span style="font-size: 12pt\;">market-manager@swmetrochamber.com</span></span></a><span style="font-family: &quot\;times new roman&quot\;\, serif\;"><span style="font-size: 12pt\;">&nbsp\;&nbsp\;&nbsp\;Phone: 612-619-0558</span></span></div>\n
LOCATION:Victoria Lions Park Pavilion 1505 82nd Street\, Victoria\, MN 55386
UID:e.498.14754
SEQUENCE:3
DTSTAMP:20260421T223554Z
URL:https://business.swmetrochamber.com/events/details/southwest-metro-holiday-market-14754
END:VEVENT

END:VCALENDAR
