BEGIN:VCALENDAR
VERSION:2.0
PRODID:-//ChamberMaster//Event Calendar 2.0//EN
METHOD:PUBLISH
X-PUBLISHED-TTL:P3D
REFRESH-INTERVAL:P3D
CALSCALE:GREGORIAN
BEGIN:VEVENT
DTSTART:20220809T130000Z
DTEND:20220809T140000Z
X-MICROSOFT-CDO-ALLDAYEVENT:FALSE
SUMMARY:SouthWest Metro Chamber Meet & Greet (Coffee-Networking)
DESCRIPTION:Hope you can the join the SouthWest Metro Chamber of Commerce for a morning Meet & Greet at Viverant Physical Therapy in Chanhassen!  This is a great opportunity to meet and network with other Chamber Members!
X-ALT-DESC;FMTTYPE=text/html:Hope you can the join the SouthWest Metro Chamber of Commerce for a morning Meet &amp\; Greet at Viverant Physical Therapy in Chanhassen!&nbsp\; This is a great opportunity to meet and network with other Chamber Members!&nbsp\;&nbsp\;
LOCATION:Viverant Physical Therapy 2665 West 78th Street\, Chanhassen\, MN\, 55317
UID:e.498.12766
SEQUENCE:3
DTSTAMP:20260424T201355Z
URL:https://business.swmetrochamber.com/events/details/southwest-metro-chamber-meet-greet-coffee-networking-12766
END:VEVENT

END:VCALENDAR
