BEGIN:VCALENDAR
VERSION:2.0
PRODID:-//ChamberMaster//Event Calendar 2.0//EN
METHOD:PUBLISH
X-PUBLISHED-TTL:P3D
REFRESH-INTERVAL:P3D
CALSCALE:GREGORIAN
BEGIN:VEVENT
DTSTART:20260805T180000Z
DTEND:20260805T210000Z
X-MICROSOFT-CDO-ALLDAYEVENT:FALSE
SUMMARY:Southwest Metro Chamber Day with the Saints
DESCRIPTION:Join the SouthWest Metro Chamber for a day at the ballpark for a St. Paul Saints game!\n\nIn collaboration with the I-94 Chamber\, with each ticket purchased\, $5 will be donated back to one of our members\, Maria's Voice (You can find more information about their organization Maria's Voice). We are currently working on a group travel opportunity (bus)\, drink tickets\, and more. Don't miss out!
X-ALT-DESC;FMTTYPE=text/html:<p>Join the SouthWest Metro Chamber for a day at the ballpark for a St. Paul Saints game!</p>\n\n<p>In collaboration with the I-94 Chamber\, with each ticket purchased\, $5 will be donated back to one of our members\, Maria&#39\;s Voice (You can find more information about their organization&nbsp\;<a href="https://www.mariasvoice.org/" rel="noopener noreferrer" style="box-sizing: border-box\; --tw-border-spacing-x: 0\; --tw-border-spacing-y: 0\; --tw-translate-x: 0\; --tw-translate-y: 0\; --tw-rotate: 0\; --tw-skew-x: 0\; --tw-skew-y: 0\; --tw-scale-x: 1\; --tw-scale-y: 1\; --tw-pan-x: \; --tw-pan-y: \; --tw-pinch-zoom: \; --tw-scroll-snap-strictness: proximity\; --tw-gradient-from-position: \; --tw-gradient-via-position: \; --tw-gradient-to-position: \; --tw-ordinal: \; --tw-slashed-zero: \; --tw-numeric-figure: \; --tw-numeric-spacing: \; --tw-numeric-fraction: \; --tw-ring-inset: \; --tw-ring-offset-width: 0px\; --tw-ring-offset-color: #fff\; --tw-ring-color: rgb(59 130 246 / .5)\; --tw-ring-offset-shadow: 0 0 #0000\; --tw-ring-shadow: 0 0 #0000\; --tw-shadow: 0 0 #0000\; --tw-shadow-colored: 0 0 #0000\; --tw-blur: \; --tw-brightness: \; --tw-contrast: \; --tw-grayscale: \; --tw-hue-rotate: \; --tw-invert: \; --tw-saturate: \; --tw-sepia: \; --tw-drop-shadow: \; --tw-backdrop-blur: \; --tw-backdrop-brightness: \; --tw-backdrop-contrast: \; --tw-backdrop-grayscale: \; --tw-backdrop-hue-rotate: \; --tw-backdrop-invert: \; --tw-backdrop-opacity: \; --tw-backdrop-saturate: \; --tw-backdrop-sepia: \; --tw-contain-size: \; --tw-contain-layout: \; --tw-contain-paint: \; --tw-contain-style: \; border-width: 0px\; border-style: solid\; border-color: rgb(229\, 231\, 235)\; cursor: pointer\; text-decoration: inherit\; font-family: Inter\, sans-serif\; font-size: 14px\; letter-spacing: 0.32px\; background-color: rgb(255\, 255\, 255)\;" target="_blank">Maria&#39\;s Voice</a>). We are currently working on a group travel opportunity (bus)\, drink tickets\, and more. Don&#39\;t miss out!&nbsp\;</p>\n
LOCATION:CHS Field 360 N Broadway St St. Paul MN 55101
UID:e.498.17435
SEQUENCE:3
DTSTAMP:20260421T060926Z
URL:https://business.swmetrochamber.com/events/details/southwest-metro-chamber-day-with-the-saints-17435
END:VEVENT

END:VCALENDAR
