BEGIN:VCALENDAR
VERSION:2.0
PRODID:-//ChamberMaster//Event Calendar 2.0//EN
METHOD:PUBLISH
X-PUBLISHED-TTL:P3D
REFRESH-INTERVAL:P3D
CALSCALE:GREGORIAN
BEGIN:VEVENT
DTSTART:20250311T000000Z
DTEND:20250311T020000Z
X-MICROSOFT-CDO-ALLDAYEVENT:FALSE
SUMMARY:Southwest Christian High School Spring Jazz Cabaret
DESCRIPTION:Join us for an entertaining night of jazz with Southwest Christian High School's Jazz Band and acapella singing group The Accidentals. Featuring special guests The Swing Circuit and singer\, songwriter and One-Man Big Band Johnny Roars (https://johnnyroars.com/)! We'd love to have you join us\; reserve your seats today!
X-ALT-DESC;FMTTYPE=text/html:Join us for an entertaining night of jazz with Southwest Christian High School&rsquo\;s Jazz Band and acapella singing group The Accidentals. Featuring special guests The Swing Circuit and singer\, songwriter and One-Man Big Band Johnny Roars (https://johnnyroars.com/)! We&rsquo\;d love to have you join us\; reserve your seats today!
LOCATION:Southwest Christian High School 1981 Bavaria Road Chaska\, MN
UID:e.498.15812
SEQUENCE:3
DTSTAMP:20260421T201130Z
URL:https://business.swmetrochamber.com/events/details/southwest-christian-high-school-spring-jazz-cabaret-15812
END:VEVENT

END:VCALENDAR
