BEGIN:VCALENDAR
VERSION:2.0
PRODID:-//ChamberMaster//Event Calendar 2.0//EN
METHOD:PUBLISH
X-PUBLISHED-TTL:P3D
REFRESH-INTERVAL:P3D
CALSCALE:GREGORIAN
BEGIN:VEVENT
DTSTART:20151016T123000Z
DTEND:20151016T133000Z
X-MICROSOFT-CDO-ALLDAYEVENT:FALSE
SUMMARY:Small Business Roundtable
DESCRIPTION:Small Business Roundtable\nThe small business roundtable is an opportunity to learn from other small business owners in an informal\, group discussion. Each roundtable session will be facilitated by an experience small business owner. Discussion topics will be decided upon by the attendees\; topics may include cash flow\, time management\, staffing issues or profitability.\n\n\n\nSeating is limited.\n\n \n\n"What a great event. I loved meeting fellow business owners and connecting over common business issues. We really rolled up our sleeves and got things accomplished. I encourage anyone that owns a small business to check it out."   Ed Fogarty\, Owner of Junk King\n\n\n\nFacilitator:\n\nEd Van Pelt\, CEO First Payment Systems
X-ALT-DESC;FMTTYPE=text/html:<h2><strong>Small Business Roundtable</strong></h2>\nThe small business roundtable is an opportunity to learn from other small business owners in an informal\, group discussion. Each roundtable session will be&nbsp\;facilitated by an experience small business owner. Discussion topics will&nbsp\;be decided upon by the attendees\; topics may include&nbsp\;cash flow\, time management\, staffing issues or profitability.<br />\n<br />\nSeating is&nbsp\;limited.<br />\n&nbsp\;<br />\n<em>&ldquo\;What a great event. I loved meeting fellow business owners and connecting over common business issues. We really rolled up our sleeves and got things accomplished. I encourage anyone that owns a small&nbsp\;business to check it out.&rdquo\;</em> &ndash\; Ed&nbsp\;Fogarty\, Owner of Junk King<br />\n<br />\n<strong>Facilitator:</strong><br />\nEd Van Pelt\, CEO First Payment Systems<br />\n&nbsp\;
LOCATION:Country Inn & Suites\, Chanhassen 591 West 78th St. Chanhassen\, MN 55317-1010
UID:e.498.5952
SEQUENCE:3
DTSTAMP:20260424T191212Z
URL:https://business.swmetrochamber.com/events/details/small-business-roundtable-10-16-2015-5952
END:VEVENT

END:VCALENDAR
