BEGIN:VCALENDAR
VERSION:2.0
PRODID:-//ChamberMaster//Event Calendar 2.0//EN
METHOD:PUBLISH
X-PUBLISHED-TTL:P3D
REFRESH-INTERVAL:P3D
CALSCALE:GREGORIAN
BEGIN:VEVENT
DTSTART:20210925T160000Z
DTEND:20210926T030000Z
X-MICROSOFT-CDO-ALLDAYEVENT:FALSE
SUMMARY:Schram Haus Brewery's Oktobierfest
DESCRIPTION:Join us for Schram Haus' 3rd Annual Oktobierfest! Enjoy craft beer\, polka music\, food trucks\, contests and more during this German celebration. For more information about bands\, music and more\, visit http://schramhausbrewery.com/oktobierfest/
X-ALT-DESC;FMTTYPE=text/html:Join us for Schram Haus&#39\; 3rd Annual Oktobierfest! Enjoy craft beer\, polka music\, food trucks\, contests and more during this German celebration. For more information about bands\, music and more\, visit http://schramhausbrewery.com/oktobierfest/
LOCATION:Schram Haus Brewery 3700 Chaska Blvd. Chaska\, MN
UID:e.498.12383
SEQUENCE:3
DTSTAMP:20260426T034320Z
URL:https://business.swmetrochamber.com/events/details/schram-haus-brewery-s-oktobierfest-12383
END:VEVENT

END:VCALENDAR
