BEGIN:VCALENDAR
VERSION:2.0
PRODID:-//ChamberMaster//Event Calendar 2.0//EN
METHOD:PUBLISH
X-PUBLISHED-TTL:P3D
REFRESH-INTERVAL:P3D
CALSCALE:GREGORIAN
BEGIN:VEVENT
DTSTART:20140511T210000Z
DTEND:20140512T020000Z
X-MICROSOFT-CDO-ALLDAYEVENT:FALSE
SUMMARY:SayHey Night with Chaska Cubs
DESCRIPTION:You're invited! Bring your family\, neighbors\, co-workers and friends and let us feed your crew and send them home with great prizes. Enjoy a free photo booth\, great food\, and prizes including free golf\, licorice\, cups\, golf balls and local business giftcards.\n\n\n\nAlso\, sign up for the SayHey5k + Kid Mascot Run held the last weekend in June. www.sayhey5k.com for more details.\n\n\n\nThis is a low cost family friendly event open to everyone. Game admission is just $3\, $1 for 62+ and free for 18 and younger.
X-ALT-DESC;FMTTYPE=text/html:You&#39\;re invited! Bring your family\, neighbors\, co-workers and friends and let us feed your crew and send them home with great prizes. Enjoy a free photo booth\, great food\, and prizes including free golf\, licorice\, cups\, golf balls and local business giftcards.<br />\n<br />\nAlso\, sign up for the SayHey5k + Kid Mascot Run held the last weekend in June. www.sayhey5k.com for more details.<br />\n<br />\nThis is a low cost family friendly event open to everyone. Game admission is just $3\, $1 for 62+ and free for 18 and younger.&nbsp\;&nbsp\;&nbsp\;&nbsp\;
LOCATION:Athletic Park Downtown Chaska
UID:e.498.6503
SEQUENCE:3
DTSTAMP:20260425T231146Z
URL:https://business.swmetrochamber.com/events/details/sayhey-night-with-chaska-cubs-05-11-2014-6503
END:VEVENT

END:VCALENDAR
