BEGIN:VCALENDAR
VERSION:2.0
PRODID:-//ChamberMaster//Event Calendar 2.0//EN
METHOD:PUBLISH
X-PUBLISHED-TTL:P3D
REFRESH-INTERVAL:P3D
CALSCALE:GREGORIAN
BEGIN:VEVENT
DTSTART:20241122T220000Z
DTEND:20241122T230000Z
X-MICROSOFT-CDO-ALLDAYEVENT:FALSE
SUMMARY:Santa Claus Lane Ribbon Cutting Ceremony
DESCRIPTION:Get into the holiday spirit as we celebrate Santa Claus Lane's Inaugural Season! This special ribbon-cutting event offers an exclusive sneak peek of our magical setup before our grand opening on Black Friday.
X-ALT-DESC;FMTTYPE=text/html:<!--StartFragment--><span data-olk-copy-source="MessageBody" style="font-family: Georgia\, Arial\, serif\, EmojiFont\;">Get into the holiday spirit as we celebrate Santa Claus Lane&#39\;s Inaugural Season! This special ribbon-cutting event offers an exclusive sneak peek of our magical setup before our grand opening on Black Friday.</span><!--EndFragment-->
LOCATION:Santa Claus Lane\, Excelsior\, MN- 3300 Tanadoona Dr. Excelsior MN\, 55331
UID:e.498.15191
SEQUENCE:3
DTSTAMP:20260422T003211Z
URL:https://business.swmetrochamber.com/events/details/santa-claus-lane-ribbon-cutting-ceremony-15191
END:VEVENT

END:VCALENDAR
