BEGIN:VCALENDAR
VERSION:2.0
PRODID:-//ChamberMaster//Event Calendar 2.0//EN
METHOD:PUBLISH
X-PUBLISHED-TTL:P3D
REFRESH-INTERVAL:P3D
CALSCALE:GREGORIAN
BEGIN:VEVENT
DTSTART:20230125T180000Z
DTEND:20230125T182000Z
X-MICROSOFT-CDO-ALLDAYEVENT:FALSE
SUMMARY:Ribbon Cutting for Sam Hennemann - State Farm
DESCRIPTION:Chamber Member\, Sam Hennemann - State Farm\, recently moved to a new location\, and we are having a Ribbon Cutting to celebrate this! \n\n\n\nWe begin with short introductions among the attendees and business owner. Then\, we have the ribbon cutting!
X-ALT-DESC;FMTTYPE=text/html:<span style="font-family:arial\;">Chamber Member\, <a href="https://business.swmetrochamber.com/list/member/sam-hennemann-state-farm-14911">Sam Hennemann - State Farm</a>\, recently moved to a new location\, and we are having a Ribbon Cutting to celebrate this!&nbsp\;<br />\n<br />\nWe begin with short introductions among the attendees and business owner. Then\, we have the ribbon cutting!&nbsp\;</span>
LOCATION:
UID:e.498.12952
SEQUENCE:3
DTSTAMP:20260424T072140Z
URL:https://business.swmetrochamber.com/events/details/ribbon-cutting-for-sam-hennemann-state-farm-12952
END:VEVENT

END:VCALENDAR
