BEGIN:VCALENDAR
VERSION:2.0
PRODID:-//ChamberMaster//Event Calendar 2.0//EN
METHOD:PUBLISH
X-PUBLISHED-TTL:P3D
REFRESH-INTERVAL:P3D
CALSCALE:GREGORIAN
BEGIN:VEVENT
DTSTART:20240724T190000Z
DTEND:20240724T200000Z
X-MICROSOFT-CDO-ALLDAYEVENT:FALSE
SUMMARY:Pop-Up-Splash Pad
DESCRIPTION:There's no better way to celebrate summer than by splashing around in the sunshine. The Victoria Fire Department will bring the water\, all you need to bring is a towel and dress in clothing that can get wet.
X-ALT-DESC;FMTTYPE=text/html:<span style="font-family:calibri\,sans-serif"><span style="font-size:11.0pt">There&rsquo\;s no better way to celebrate summer than by splashing around in the sunshine. The Victoria Fire Department will bring the water\, all you need to bring is a towel and dress in clothing that can get wet.&nbsp\;</span></span>&nbsp\;
LOCATION:Diethelm Park / Victoria Recreation Center\, 8475 Kochia Ln\, Victoria\, MN 55386
UID:e.498.14349
SEQUENCE:3
DTSTAMP:20260422T033046Z
URL:https://business.swmetrochamber.com/events/details/pop-up-splash-pad-14349
END:VEVENT

END:VCALENDAR
