BEGIN:VCALENDAR
VERSION:2.0
PRODID:-//ChamberMaster//Event Calendar 2.0//EN
METHOD:PUBLISH
X-PUBLISHED-TTL:P3D
REFRESH-INTERVAL:P3D
CALSCALE:GREGORIAN
BEGIN:VEVENT
DTSTART:20140628T160000Z
DTEND:20140628T200000Z
X-MICROSOFT-CDO-ALLDAYEVENT:FALSE
SUMMARY:Patient Appreciation Day!
DESCRIPTION:HealthSource of Chaska invites you to come and celebrate with us!\n\n\n\nAs our way of saying thank you and giving back to our patients\, join us and enjoy games\, food\, and fun for the entire family and it's all FREE!!!\n\n\n	Bounce house\n	Polish golf\n	Bean bags\n	Hot dogs\, burgers\, pop.. and so much more!\n\n Join Dr. Tyler Hasse and the HealthSource of Chaska team cut the ribbon on:\n\n\n\n    Saturday\, June 28\, 2014\n\n    11:00 a.m. - 3:00 p.m.
X-ALT-DESC;FMTTYPE=text/html:<span style="color:#FF0000\;"><strong><span style="font-size:14px\;">HealthSource of Chaska invites you to come and celebrate with us!</span><br />\n<br />\n<span style="font-size:12px\;">As our way of saying thank you and giving back to our patients\, join us and enjoy games\, food\, and fun for the entire family and it&#39\;s all FREE!!!</span></strong></span>\n\n<ul>\n	<li><span style="font-size:12px\;"><span style="color:#FF0000\;"><strong>Bounce house</strong></span></span></li>\n	<li><span style="font-size:12px\;"><span style="color:#FF0000\;"><strong>Polish golf</strong></span></span></li>\n	<li><span style="font-size:12px\;"><span style="color:#FF0000\;"><strong>Bean bags</strong></span></span></li>\n	<li><span style="font-size:12px\;"><span style="color:#FF0000\;"><strong>Hot dogs\, burgers\, pop.. and so much more!</strong></span></span></li>\n</ul>\n<span style="font-size:12px\;"> <span style="color:#FF0000\;"><strong>Join Dr. Tyler Hasse and the HealthSource of Chaska team cut the ribbon on:<br />\n<br />\n&nbsp\;&nbsp\;&nbsp\;&nbsp\;Saturday\, June 28\, 2014<br />\n&nbsp\; &nbsp\; 11:00 a.m. - 3:00 p.m.</strong></span></span>
LOCATION:122 Pioneer Trail Chaska\, MN 55318
UID:e.498.6505
SEQUENCE:3
DTSTAMP:20260425T211409Z
URL:https://business.swmetrochamber.com/events/details/patient-appreciation-day-06-28-2014-6505
END:VEVENT

END:VCALENDAR
