BEGIN:VCALENDAR
VERSION:2.0
PRODID:-//ChamberMaster//Event Calendar 2.0//EN
METHOD:PUBLISH
X-PUBLISHED-TTL:P3D
REFRESH-INTERVAL:P3D
CALSCALE:GREGORIAN
BEGIN:VEVENT
DTSTART;VALUE=DATE:20230919
DTEND;VALUE=DATE:20230920
TRANSP:TRANSPARENT
X-MICROSOFT-CDO-ALLDAYEVENT:TRUE
SUMMARY:Outdoor Color Visions - Cafe Gallery
DESCRIPTION:Stroll through the Cafe Gallery and explore the dream-like world of Mandy Chowen's altered landscapes. Chowen creates her art by layering thin washes of paint color\, resulting in a translucent glow that seems to come from within. Her works vibrate with light and color\, each eliciting a unique emotional response. Be sure to reserve your gate admission on the website.
X-ALT-DESC;FMTTYPE=text/html:<span style="font-family:open sans\,sans-serif\; font-size:18px">Stroll through the Cafe Gallery and explore the dream-like world of Mandy Chowen&rsquo\;s altered landscapes. Chowen creates her art by layering thin washes of paint color\, resulting in a translucent glow that seems to come from within. Her works vibrate with light and color\, each eliciting a unique emotional response. Be sure to reserve your gate admission on the website.</span>
LOCATION:MN Landscape Arboretum 3675 Arboretum Dr Chaska\, MN 55318
UID:e.498.13409
SEQUENCE:3
DTSTAMP:20260423T065339Z
URL:https://business.swmetrochamber.com/events/details/outdoor-color-visions-cafe-gallery-09-19-2023-13409
END:VEVENT

END:VCALENDAR
