BEGIN:VCALENDAR
VERSION:2.0
PRODID:-//ChamberMaster//Event Calendar 2.0//EN
METHOD:PUBLISH
X-PUBLISHED-TTL:P3D
REFRESH-INTERVAL:P3D
CALSCALE:GREGORIAN
BEGIN:VEVENT
DTSTART:20250416T163000Z
DTEND:20250416T170000Z
X-MICROSOFT-CDO-ALLDAYEVENT:FALSE
SUMMARY:New American Funding Ribbon Cutting
DESCRIPTION:Join the SouthWest Metro Chamber of Commerce at the new New American Funding location in Chaska for a ribbon cutting!
X-ALT-DESC;FMTTYPE=text/html:Join the SouthWest Metro Chamber of Commerce at the new New American Funding location in Chaska for a ribbon cutting!&nbsp\;
LOCATION:New American Funding 121 3rd Street West\, Chaska MN\,55318
UID:e.498.15816
SEQUENCE:3
DTSTAMP:20260421T223653Z
URL:https://business.swmetrochamber.com/events/details/new-american-funding-ribbon-cutting-15816
END:VEVENT

END:VCALENDAR
