BEGIN:VCALENDAR
VERSION:2.0
PRODID:-//ChamberMaster//Event Calendar 2.0//EN
METHOD:PUBLISH
X-PUBLISHED-TTL:P3D
REFRESH-INTERVAL:P3D
CALSCALE:GREGORIAN
BEGIN:VEVENT
DTSTART:20230618T183000Z
DTEND:20230618T200000Z
X-MICROSOFT-CDO-ALLDAYEVENT:FALSE
SUMMARY:Music in the Gardens
DESCRIPTION:Enjoy live music throughout the summer at the Ordway Picnic Shelter. Local bands and community groups will perform on Thursday evenings and Sunday afternoons. Today\, listen to the Plymouth Concert Band!  Be sure to pre-register on the website\, gate admission only.
X-ALT-DESC;FMTTYPE=text/html:<span style="background-color:rgb(255\, 255\, 255)\; color:rgb(51\, 51\, 51)\; font-family:sans-serif\,arial\,verdana\,trebuchet ms\; font-size:13px">Enjoy live music throughout the summer at the Ordway Picnic Shelter. Local bands and community groups will perform on Thursday evenings and Sunday afternoons. Today\, listen to the Plymouth Concert Band!&nbsp\; Be sure to pre-register on the website\, gate admission only.</span>
LOCATION:MN Landscape Arboretum (Ordway Picnic Shelter) 3675 Arboretum Dr Chaska\, MN 55318
UID:e.498.13069
SEQUENCE:3
DTSTAMP:20260423T154254Z
URL:https://business.swmetrochamber.com/events/details/music-in-the-gardens-06-18-2023-13069
END:VEVENT

END:VCALENDAR
