BEGIN:VCALENDAR
VERSION:2.0
PRODID:-//ChamberMaster//Event Calendar 2.0//EN
METHOD:PUBLISH
X-PUBLISHED-TTL:P3D
REFRESH-INTERVAL:P3D
CALSCALE:GREGORIAN
BEGIN:VEVENT
DTSTART:20230608T230000Z
DTEND:20230609T003000Z
X-MICROSOFT-CDO-ALLDAYEVENT:FALSE
SUMMARY:Music in the Gardens
DESCRIPTION:Enjoy live music throughout the summer at the Ordway Picnic Shelter. Local bands and community groups will perform on Thursday evenings and Sunday afternoons. Tonight\, listen to The Flute Loops!  Be sure to pre-register on the website\, gate admission only.
X-ALT-DESC;FMTTYPE=text/html:Enjoy live music throughout the summer at the Ordway Picnic Shelter. Local bands and community groups will perform on Thursday evenings and Sunday afternoons. Tonight\, listen to The Flute Loops!&nbsp\; Be sure to pre-register on the website\, gate admission only.
LOCATION:MN Landscape Arboretum 3675 Arboretum Dr Chaska\, MN 55318
UID:e.498.13066
SEQUENCE:3
DTSTAMP:20260423T173239Z
URL:https://business.swmetrochamber.com/events/details/music-in-the-gardens-06-08-2023-13066
END:VEVENT

END:VCALENDAR
