BEGIN:VCALENDAR
VERSION:2.0
PRODID:-//ChamberMaster//Event Calendar 2.0//EN
METHOD:PUBLISH
X-PUBLISHED-TTL:P3D
REFRESH-INTERVAL:P3D
CALSCALE:GREGORIAN
BEGIN:VEVENT
DTSTART:20151015T170000Z
DTEND:20151015T180000Z
X-MICROSOFT-CDO-ALLDAYEVENT:FALSE
SUMMARY:Medicare Presentation
DESCRIPTION:Topics to be covered in the Medicare presentation include what is new with Medicare for 2016\, review coverage for Basic Medicare\, Part C plan changes and more.
X-ALT-DESC;FMTTYPE=text/html:Topics to be covered in the Medicare presentation include what is new with Medicare for 2016\, review coverage for Basic Medicare\, Part C plan changes and more.
LOCATION:Auburn Homes and Services 501 N Oak St Chaska MN 55318
UID:e.498.7653
SEQUENCE:3
DTSTAMP:20260424T191232Z
URL:https://business.swmetrochamber.com/events/details/medicare-presentation-10-15-2015-7653
END:VEVENT

END:VCALENDAR
