BEGIN:VCALENDAR
VERSION:2.0
PRODID:-//ChamberMaster//Event Calendar 2.0//EN
METHOD:PUBLISH
X-PUBLISHED-TTL:P3D
REFRESH-INTERVAL:P3D
CALSCALE:GREGORIAN
BEGIN:VEVENT
DTSTART:20241005T150000Z
DTEND:20241005T210000Z
X-MICROSOFT-CDO-ALLDAYEVENT:FALSE
SUMMARY:Library Book Sale at the Arb!
DESCRIPTION:Shop gently used books of all genres\, DVDs\, and puzzles. Thanks to the support of the Arboretum community for donating the items. The sale is organized by the Friends of the Andersen Horticultural Library. Both cash and credit cards are accepted at the book sale. Please pre-register your gate admission on the website.
X-ALT-DESC;FMTTYPE=text/html:<span style="font-family:open sans\,sans-serif\; font-size:18px">Shop gently used books of all genres\, DVDs\, and puzzles. Thanks to the support of the Arboretum community for donating the&nbsp\;items. The sale is organized by the Friends of the&nbsp\;</span><a href="https://arb.umn.edu/library" style="color: rgb(144\, 0\, 33)\; box-sizing: border-box\; text-decoration-line: none\; border-bottom: 1px solid rgb(144\, 0\, 33)\; font-family: &quot\;Open Sans&quot\;\, sans-serif\; font-size: 18px\;" target="_blank">Andersen Horticultural Library</a>.<span style="font-family:open sans\,sans-serif\; font-size:18px">&nbsp\;Both cash and credit cards are accepted at the book sale. Please pre-register your gate admission on the website.</span>\n<div>&nbsp\;</div>\n
LOCATION:MN Landscape Arboretum 3675 Arboretum Dr Chaska\, MN 55318
UID:e.498.15014
SEQUENCE:3
DTSTAMP:20260422T021037Z
URL:https://business.swmetrochamber.com/events/details/library-book-sale-at-the-arb-10-05-2024-15014
END:VEVENT

END:VCALENDAR
