BEGIN:VCALENDAR
VERSION:2.0
PRODID:-//ChamberMaster//Event Calendar 2.0//EN
METHOD:PUBLISH
X-PUBLISHED-TTL:P3D
REFRESH-INTERVAL:P3D
CALSCALE:GREGORIAN
BEGIN:VEVENT
DTSTART:20230703T190000Z
DTEND:20230703T210000Z
X-MICROSOFT-CDO-ALLDAYEVENT:FALSE
SUMMARY:July 3rd Business Expo
DESCRIPTION:Join us for the SouthWest Metro Chamber of Commerce July 3rd Business Expo! This event is a great way to spread the word about your business. For the past 20 plus years\, the July 3rd Business Expo signaled the beginning of the July 4th celebration in Chanhassen--which is celebrating its 40th anniversary:\n\n\n\nwww.chanhassenmn.gov/departments/park-recreation/community-events/4th-of-july-celebration\n\n\n\nBooth space is available\, and your participation will help you reach hundreds of Chanhassen area residents. \n\n\n\nThis expo is under a large tent. An 8 foot table and 2 chairs are provided for businesses that register for a booth.\n\n\n\nPLEASE NOTE: The Chamber only hosts the business expo. If you are looking for information on the July 4th Parade\, please contact the City of Chanhassen: www.chanhassenmn.gov/departments/park-recreation/community-events/4th-of-july-celebration
X-ALT-DESC;FMTTYPE=text/html:<div style="text-align: center\;"><span style="font-size:14px\;"><span style="font-family: arial\, sans-serif\;">Join us for&nbsp\;the SouthWest Metro Chamber of Commerce&nbsp\;July 3</span><span style="font-family: arial\, sans-serif\; text-align: center\;">rd&nbsp\;</span><span style="font-family: arial\, sans-serif\;">Business Expo! This event&nbsp\;is a great way to spread the word&nbsp\;about your business.&nbsp\;For the past 20 plus years\, the July 3<sup>rd</sup>&nbsp\;Business Expo signaled the beginning of the July 4<sup>th</sup>&nbsp\;celebration in Chanhassen--<a href="https://www.swnewsmedia.com/chanhassen_villager/news/chan-kicks-it-up-a-notch-for-40th-fourth-of-july-celebration/article_0c6e4ee8-f34d-11ed-ab85-0f0f2fb1d118.html"><em>which is <span style="font-family:arial\;">celebrating its 40th&nbsp\;</span></em></a></span><span style="font-family:arial\;"><a href="https://www.swnewsmedia.com/chanhassen_villager/news/chan-kicks-it-up-a-notch-for-40th-fourth-of-july-celebration/article_0c6e4ee8-f34d-11ed-ab85-0f0f2fb1d118.html"><em>anniversary</em>:</a><br />\n<br />\n<a href="http://www.chanhassenmn.gov/departments/park-recreation/community-events/4th-of-july-celebration">www.chanhassenmn.gov/departments/park-recreation/community-events/4th-of-july-celebration</a></span><br />\n<br />\n<span style="font-family: arial\, sans-serif\;">Booth space is available\, and your participation will help you reach hundreds of Chanhassen area residents.&nbsp\;</span><br />\n<br />\n<strong><span style="font-family: arial\, sans-serif\;">This&nbsp\;expo is under a large tent. An 8 foot table and 2 chairs are provided for businesses that&nbsp\;register for a booth.</span></strong><br />\n<br />\n<em><span style="font-family: arial\, sans-serif\;"><strong>PLEASE NOTE:&nbsp\;</strong>The&nbsp\;Chamber only hosts the business expo. If you are looking for information on the July 4th Parade\, please contact the City of Chanhassen:&nbsp\;</span></em><a href="http://www.chanhassenmn.gov/departments/park-recreation/community-events/4th-of-july-celebration">www.chanhassenmn.gov/departments/park-recreation/community-events/4th-of-july-celebration</a>&nbsp\;</span><br />\n&nbsp\;</div>\n
LOCATION:City Center Park
UID:e.498.13001
SEQUENCE:3
DTSTAMP:20260423T132227Z
URL:https://business.swmetrochamber.com/events/details/july-3rd-business-expo-13001
END:VEVENT

END:VCALENDAR
