BEGIN:VCALENDAR
VERSION:2.0
PRODID:-//ChamberMaster//Event Calendar 2.0//EN
METHOD:PUBLISH
X-PUBLISHED-TTL:P3D
REFRESH-INTERVAL:P3D
CALSCALE:GREGORIAN
BEGIN:VEVENT
DTSTART:20220625T130000Z
DTEND:20220625T180000Z
X-MICROSOFT-CDO-ALLDAYEVENT:FALSE
SUMMARY:HopeKids 5K/10K + Kids Fun Run
DESCRIPTION:Do you enjoy running? Like supporting local charities? Then this event is perfect for you! JOIN US for the 14th Annual Hope K 5K/10K\; a family-friendly event attracting competitive and recreational runners\, casual walkers and children of all ages! Run\, jog\, or walk your way in and around the beautiful Spirit of Brandtjen Farm community in Lakeville. Think warm summer days\, mixed with a little exercise\, breathtaking views and plenty of fun for the whole family! Kids can join in too! A Kids Fun Run will follow the 5K/10K. Each child will receive a race number and medal when they cross the finish line. All 5K/10K participants will receive a complimentary t-shirt and free lunch after the race. Stick around after the race for lunch and free family activities! Activities include strong course\, DJ\, rock climbing wall\, build zone\, tie dye\, animals\, water wars\, reptile zoo\, basketball\, sand volleyball and so much more! If you don't participate in the run\, you are still welcome to bring your friends/family to enjoy all the free activities offered from 10am-1pm. REGISTER TODAY AND RECRUIT YOUR FRIENDS AND FAMILY TO JOIN IN ON THE FUN ---------- REGISTER TO RUN    https://bit.ly/HopeK-22reg DONATE    https://bit.ly/HopeK-22donate ---------- SCHEDULE 8:00am Race-Day Registration/Check-In Opens 9:00am 5K/10K 10:00am HopeWalk (for HopeKids Families) 11:00am Kids Fun Run 11:00am LUNCH 10:00am - 1:00pm Free family-friendly activities
X-ALT-DESC;FMTTYPE=text/html:Do you enjoy running? Like supporting local charities? Then this event is perfect for you! JOIN US for the 14th Annual Hope K 5K/10K\; a family-friendly event attracting competitive and recreational runners\, casual walkers and children of all ages! Run\, jog\, or walk your way in and around the beautiful Spirit of Brandtjen Farm community in Lakeville. Think warm summer days\, mixed with a little exercise\, breathtaking views and plenty of fun for the whole family! Kids can join in too! A Kids Fun Run will follow the 5K/10K. Each child will receive a race number and medal when they cross the finish line. All 5K/10K participants will receive a complimentary t-shirt and free lunch after the race. Stick around after the race for lunch and free family activities! Activities include strong course\, DJ\, rock climbing wall\, build zone\, tie dye\, animals\, water wars\, reptile zoo\, basketball\, sand volleyball and so much more! If you don&#39\;t participate in the run\, you are still welcome to bring your friends/family to enjoy all the free activities offered from 10am-1pm. REGISTER TODAY AND RECRUIT YOUR FRIENDS AND FAMILY TO JOIN IN ON THE FUN ---------- REGISTER TO RUN &gt\;&gt\; https://bit.ly/HopeK-22reg DONATE &gt\;&gt\; https://bit.ly/HopeK-22donate ---------- SCHEDULE 8:00am Race-Day Registration/Check-In Opens 9:00am 5K/10K 10:00am HopeWalk (for HopeKids Families) 11:00am Kids Fun Run 11:00am LUNCH 10:00am - 1:00pm Free family-friendly activities
LOCATION:16965 Brandtjen Farm Drive\, Lakeville\, MN 55044
UID:e.498.12759
SEQUENCE:3
DTSTAMP:20260424T204859Z
URL:https://business.swmetrochamber.com/events/details/hopekids-5k-10k-kids-fun-run-06-25-2022-12759
END:VEVENT

END:VCALENDAR
