BEGIN:VCALENDAR
VERSION:2.0
PRODID:-//ChamberMaster//Event Calendar 2.0//EN
METHOD:PUBLISH
X-PUBLISHED-TTL:P3D
REFRESH-INTERVAL:P3D
CALSCALE:GREGORIAN
BEGIN:VEVENT
DTSTART:20140308T160000Z
DTEND:20140308T210000Z
X-MICROSOFT-CDO-ALLDAYEVENT:FALSE
SUMMARY:Home\, Landscape & Lifestyle Expo presented by Home Depot
DESCRIPTION:Home\, Landscape & Lifestyle Expo\n\nPresented by Home Depot\n\nSaturday\, March 8\, 2014 | 10am-3pm\n\nChanhassen High School\n\nThis one-day expo will host exhibitors with a wide variety of products and services available to homeowners to help improve their home and lifestyle\, inside and out. \n\n \n\nFree Parking | Clinics & Speakers | Kids Zone\n\n\n\n\n\nVendors Include:\n\nAbove & Beyond Construction\n\nAbove All Hardwood Floors\n\nAgStar Home Mortgage\n\nAssociated Building Consultants\n\nBuilders & Remodelers\n\nCabinets by Dan\n\nCasualty Assurance of Chaska\n\nCertaPro Painters Southwest Metro\n\nCGT Limited\n\nChase Home Loans\n\nChaska Music Studios / Kindermusik with Leslie\n\nClear View Screens\n\nCrown College   \n\nCustom Remodelers\n\nCustom Drapery & Blinds by Michael Esch\n\nDiscount Tree Removal\n\nDiscover Chiropractic Life Center\n\nDurst & Gans Building Corporation\n\nElite Waste Disposal\n\nEnvy Skin Clinic\n\nExcelsior Paint & Design\n\nFamily Focus Chiropractic\n\nFitness Together\n\nGood & Twisted Yoga\n\nGrassWorks\, Inc\n\nHartman Companies\n\nHealthSource Chiropractic\n\nHome Depot (sponsor)\n\nHome Team Remodelers\n\ni9 Sports\n\nKleinBank\n\nmackmiller design + build\n\nMagnolia Landscape & Design Co.\n\nMaster Moon's Tae Kwon Do\n\nMediacom\n\nMetro Dental Care\n\nMinnesota Chronic Disease Center\n\nMinnesota Rusco\, Inc\n\nMon-Ray\, Inc.\n\nMosquito Joe\n\nNew Window for America / Expert Exteriors\n\nNorwex - Christine Ploof\n\nOutdoor Living & Landscaping Inc\n\nPeak Heating & Cooling\n\nPicture Perfect Landscaping & Designs\n\nProVision Constructions\n\nRenewal by Andersen\n\nResidential Heating & Air Conditioning\, Inc.\n\nSass Construction\n\nSouthwest Newspapers\n\nStonepocket\, Inc.\n\nSummerwood of Chanhassen\n\nSUBZERO Ice Cream & Yogurt\n\nT.J. Replacement Windows\n\nThe Mustard Seed Landscape & Garden Center (Sponsor)\n\nValeo Health & Wellness Center\n\nVenture Photography\n\nWay-Cool Cooking School\n\nWindow Concepts of Minnesota Inc\n\nWuensch Construction\n\nXpand\, Inc.\n\nYour Home Improvement Company
X-ALT-DESC;FMTTYPE=text/html:<div style="text-align: center\;"><br />\n<span style="font-size:22px\;"><strong>Home\, Landscape &amp\; Lifestyle Expo</strong></span><br />\n<strong><span style="font-size:14px\;">Presented by Home Depot</span></strong></div>\n\n<div style="text-align: center\;"><span style="font-size:18px\;"><strong>Saturday\, March 8\, 2014 </strong></span><span style="font-size:18px\;"><strong>| 10am-3pm</strong></span><br />\n<span style="font-size:18px\;"><strong>Chanhassen High School</strong></span></div>\n\n<p>This one-day expo will host exhibitors with a wide variety of products and services available to homeowners to help improve their home and lifestyle\, inside and out.&nbsp\;<br />\n&nbsp\;</p>\n\n<div style="text-align: center\;"><strong><span style="font-size:18px\;"><span style="font-size:16px\;">Free Parking | Clinics &amp\; Speakers | Kids Zone</span></span></strong></div>\n\n<div><br />\n<br />\n<em><strong>Vendors Include:</strong><br />\nAbove &amp\; Beyond Construction<br />\nAbove All Hardwood Floors<br />\nAgStar Home Mortgage<br />\nAssociated Building Consultants<br />\nBuilders &amp\; Remodelers<br />\nCabinets by Dan<br />\nCasualty Assurance of Chaska<br />\nCertaPro Painters Southwest Metro</em></div>\n\n<div><em>CGT Limited<br />\nChase Home Loans<br />\nChaska Music Studios / Kindermusik with Leslie<br />\nClear View Screens<br />\nCrown College&nbsp\;&nbsp\;&nbsp\;<br />\nCustom Remodelers<br />\nCustom Drapery &amp\; Blinds by Michael Esch<br />\nDiscount Tree Removal<br />\nDiscover Chiropractic Life Center<br />\nDurst &amp\; Gans Building Corporation<br />\nElite Waste Disposal<br />\nEnvy Skin Clinic<br />\nExcelsior Paint &amp\; Design<br />\nFamily Focus Chiropractic</em><br />\n<em>Fitness Together</em></div>\n\n<div><em>Good &amp\; Twisted Yoga<br />\nGrassWorks\, Inc<br />\nHartman Companies<br />\nHealthSource Chiropractic<br />\nHome Depot (sponsor)<br />\nHome Team Remodelers<br />\ni9 Sports<br />\nKleinBank<br />\nmackmiller design + build<br />\nMagnolia Landscape &amp\; Design Co.<br />\nMaster Moon&#39\;s Tae Kwon Do<br />\nMediacom<br />\nMetro Dental Care<br />\nMinnesota Chronic Disease Center<br />\nMinnesota Rusco\, Inc<br />\nMon-Ray\, Inc.<br />\nMosquito Joe<br />\nNew Window for America / Expert Exteriors<br />\nNorwex - Christine Ploof<br />\nOutdoor Living &amp\; Landscaping Inc<br />\nPeak Heating &amp\; Cooling<br />\nPicture Perfect Landscaping &amp\; Designs<br />\nProVision Constructions<br />\nRenewal by Andersen<br />\nResidential Heating &amp\; Air Conditioning\, Inc.<br />\nSass Construction<br />\nSouthwest Newspapers<br />\nStonepocket\, Inc.<br />\nSummerwood of Chanhassen<br />\nSUBZERO Ice Cream &amp\; Yogurt<br />\nT.J. Replacement Windows<br />\nThe Mustard Seed Landscape &amp\; Garden Center (Sponsor)<br />\nValeo Health &amp\; Wellness Center<br />\nVenture Photography<br />\nWay-Cool Cooking School<br />\nWindow Concepts of Minnesota Inc<br />\nWuensch Construction<br />\nXpand\, Inc.<br />\nYour Home Improvement Company</em><br />\n&nbsp\;</div>\n
LOCATION:Chanhassen High School 2200 Lyman Blvd Chanhassen\, MN
UID:e.498.5911
SEQUENCE:3
DTSTAMP:20260426T042700Z
URL:https://business.swmetrochamber.com/events/details/home-landscape-lifestyle-expo-presented-by-home-depot-03-08-2014-5911
END:VEVENT

END:VCALENDAR
