BEGIN:VCALENDAR
VERSION:2.0
PRODID:-//ChamberMaster//Event Calendar 2.0//EN
METHOD:PUBLISH
X-PUBLISHED-TTL:P3D
REFRESH-INTERVAL:P3D
CALSCALE:GREGORIAN
BEGIN:VEVENT
DTSTART:20241208T180000Z
DTEND:20241208T230000Z
X-MICROSOFT-CDO-ALLDAYEVENT:FALSE
SUMMARY:Haus Holiday Market
DESCRIPTION:The haus will be full of local designers\, snack items\, gifts\, craftsman and more.  Stroll throughout all of our spaces and support these local businesses this holiday season!
X-ALT-DESC;FMTTYPE=text/html:The haus will be full of local designers\, snack items\, gifts\, craftsman and more.&nbsp\; Stroll throughout all of our spaces and support these local businesses this holiday season!&nbsp\;
LOCATION:Schram Haus Brewery 3700 Chaska Blvd. Chaska\, MN 55318
UID:e.498.15178
SEQUENCE:3
DTSTAMP:20260422T015903Z
URL:https://business.swmetrochamber.com/events/details/haus-holiday-market-12-08-2024-15178
END:VEVENT

END:VCALENDAR
