BEGIN:VCALENDAR
VERSION:2.0
PRODID:-//ChamberMaster//Event Calendar 2.0//EN
METHOD:PUBLISH
X-PUBLISHED-TTL:P3D
REFRESH-INTERVAL:P3D
CALSCALE:GREGORIAN
BEGIN:VEVENT
DTSTART:20210625T200000Z
DTEND:20210625T220000Z
X-MICROSOFT-CDO-ALLDAYEVENT:FALSE
SUMMARY:Grand Re-opening Sam Hennemann State Farm
DESCRIPTION:Sam Hennemann State Farm is excited to announce our Grand Re-opening event as a member of the SouthWest Metro Chamber of Commerce! Please join us for some fun in the sun on Friday June 25th from 3:00   5:00 in the Enki Brewing parking lot right next to our office. Burgers\, Hotdogs\, and refreshments will be provided! We look forward to seeing you all there!
X-ALT-DESC;FMTTYPE=text/html:<span style="color:#050505\;"><span style="font-family:segoe ui historic\,serif\;"><span style="font-size:11.5pt\;">Sam Hennemann State Farm is excited to announce our Grand Re-opening event as a member of the SouthWest Metro Chamber of Commerce! Please join us for some fun in the sun on Friday June 25th from 3:00 &ndash\; 5:00 in the Enki Brewing parking lot right next to our office. Burgers\, Hotdogs\, and refreshments will be provided! We look forward to seeing you all there!</span></span></span>
LOCATION:Sam Hennemann State Farm Enki Brewing Parking Lot Victoria\, MN
UID:e.498.12241
SEQUENCE:3
DTSTAMP:20260423T222924Z
URL:https://business.swmetrochamber.com/events/details/grand-re-opening-sam-hennemann-state-farm-12241
END:VEVENT

END:VCALENDAR
