BEGIN:VCALENDAR
VERSION:2.0
PRODID:-//ChamberMaster//Event Calendar 2.0//EN
METHOD:PUBLISH
X-PUBLISHED-TTL:P3D
REFRESH-INTERVAL:P3D
CALSCALE:GREGORIAN
BEGIN:VEVENT
DTSTART:20240420T170000Z
DTEND:20240420T230000Z
X-MICROSOFT-CDO-ALLDAYEVENT:FALSE
SUMMARY:Goat Fest at Schram Haus Brewery
DESCRIPTION:One of our most favorite events of the year - some may even say it's "the Goat." ?? A day when we combine the release of our spring Bock beer with an afternoon of fun with goats and music!?????? Come out to Schram Haus Brewery for a fun day of our Haus-made craft beers\, our yearly Bock release\, enticing food trucks\, toe-tapping music by Traveled Ground and Matt Hannah\, beer poking\, and of course\, GOATS!! Schram Haus is ready to supply the fun all day long with goat races\, cuddling\, and great photo opps\, plus t-shirt cannon launches\, and tantalizing beer poking. Check-in begins at 12pm\, the crowd favorite Traveled Ground band will play from 2pm-6pm\, goat races will occur at multiple times throughout the day\, and all other great offerings will be available throughout the day. Though G.O.A.T.Fest's official hours are from 12pm-6pm\, Schram Haus Brewery is open until the usual 10pm that night\, so the celebrations can continue into the evening with Matt Hannah performing 6pm-9pm! Adults and kids alike are welcome to join in the festivities\, but please leave your furry friends at home and pet the goats instead!
X-ALT-DESC;FMTTYPE=text/html:One of our most favorite events of the year - some may even say it&#39\;s &quot\;the Goat.&quot\; ?? A day when we combine the release of our spring Bock beer with an afternoon of fun with goats and music!?????? Come out to Schram Haus Brewery for a fun day of our Haus-made craft beers\, our yearly Bock release\, enticing food trucks\, toe-tapping music by Traveled Ground and Matt Hannah\, beer poking\, and of course\, GOATS!! Schram Haus is ready to supply the fun all day long with goat races\, cuddling\, and great photo opps\, plus t-shirt cannon launches\, and tantalizing beer poking. Check-in begins at 12pm\, the crowd favorite Traveled Ground band will play from 2pm-6pm\, goat races will occur at multiple times throughout the day\, and all other great offerings will be available throughout the day. Though G.O.A.T.Fest&#39\;s official hours are from 12pm-6pm\, Schram Haus Brewery is open until the usual 10pm that night\, so the celebrations can continue into the evening with Matt Hannah performing 6pm-9pm! Adults and kids alike are welcome to join in the festivities\, but please leave your furry friends at home and pet the goats instead!
LOCATION:Schram Haus Brewery 3700 Chaska Blvd. Chaska\, MN 55318
UID:e.498.14301
SEQUENCE:3
DTSTAMP:20260422T092158Z
URL:https://business.swmetrochamber.com/events/details/goat-fest-at-schram-haus-brewery-14301
END:VEVENT

END:VCALENDAR
