BEGIN:VCALENDAR
VERSION:2.0
PRODID:-//ChamberMaster//Event Calendar 2.0//EN
METHOD:PUBLISH
X-PUBLISHED-TTL:P3D
REFRESH-INTERVAL:P3D
CALSCALE:GREGORIAN
BEGIN:VEVENT
DTSTART:20240717T163000Z
DTEND:20240717T180000Z
X-MICROSOFT-CDO-ALLDAYEVENT:FALSE
SUMMARY:General Membership Luncheon - Starting Your Family Business Conversations
DESCRIPTION:Are you working in your family business? \n\nConsider learning more about the roles in a family business and what a succession strategy would look like and what kind of tips and tricks work best in creating a plan that works for everyone. \n\n\n\nLearn from expert Jon Keimig\, Executive Director of the Family Business Center from the University of St. Thomas who will give an in-depth analysis on family succession and the world of business.
X-ALT-DESC;FMTTYPE=text/html:<span style="font-size: 21.3333px\;"><b>Are you working in your family business?&nbsp\;</b></span><br />\nConsider learning more about the roles in a family business and what a succession strategy would look like and what kind of tips and tricks work best in creating a plan that works for everyone.&nbsp\;<br />\n<br />\nLearn from expert Jon Keimig\, Executive Director of the Family Business Center from the University of St. Thomas who will give an in-depth analysis on family succession and the world of business.&nbsp\;<br />\n&nbsp\;
LOCATION:Chanhassen Rec Center 2310 Coulter Blvd\, Chanhassen\, MN 55317
UID:e.498.14726
SEQUENCE:3
DTSTAMP:20260422T035319Z
URL:https://business.swmetrochamber.com/events/details/general-membership-luncheon-starting-your-family-business-conversations-14726
END:VEVENT

END:VCALENDAR
