BEGIN:VCALENDAR
VERSION:2.0
PRODID:-//ChamberMaster//Event Calendar 2.0//EN
METHOD:PUBLISH
X-PUBLISHED-TTL:P3D
REFRESH-INTERVAL:P3D
CALSCALE:GREGORIAN
BEGIN:VEVENT
DTSTART:20210919T230000Z
DTEND:20210921T020000Z
X-MICROSOFT-CDO-ALLDAYEVENT:FALSE
SUMMARY:Full Harvest Moon Viewing
DESCRIPTION:Join us for an after hours experience at the September Full Harvest Moon viewing events. Enjoy a relaxing evening outdoors with lawn games and free popcorn. The Arb Snack Cart will also be on hand for more snacking options. After the sun sets\, explore the moon-lit farm paths or relax and view the Harvest Moon from the event lawn or prairie overlook. A few reminders: dogs are not allowed at the Farm at the Arb (Red Barn) and face coverings are required indoors in all Arboretum buildings
X-ALT-DESC;FMTTYPE=text/html:Join us for an after hours experience at the September Full Harvest Moon viewing events. Enjoy a relaxing evening outdoors with lawn games and free popcorn. The Arb Snack Cart will also be on hand for more snacking options. After the sun sets\, explore the moon-lit farm paths or relax and view the Harvest Moon from the event lawn or prairie overlook. A few reminders: dogs are not allowed at the Farm at the Arb (Red Barn) and face coverings are required indoors in all Arboretum buildings
LOCATION:MN Landscape Arboretum\, 3675 Arboretum Dr\, Chaska\, MN 55318. Meet at the Red Barn
UID:e.498.12400
SEQUENCE:3
DTSTAMP:20260426T005729Z
URL:https://business.swmetrochamber.com/events/details/full-harvest-moon-viewing-12400
END:VEVENT

END:VCALENDAR
