BEGIN:VCALENDAR
VERSION:2.0
PRODID:-//ChamberMaster//Event Calendar 2.0//EN
METHOD:PUBLISH
X-PUBLISHED-TTL:P3D
REFRESH-INTERVAL:P3D
CALSCALE:GREGORIAN
BEGIN:VEVENT
DTSTART:20240713T013000Z
DTEND:20240713T033000Z
X-MICROSOFT-CDO-ALLDAYEVENT:FALSE
SUMMARY:FireFly Viewing Nights
DESCRIPTION:Experience the magic of summer nights at the Arb with hundreds of fireflies flashing through the sky! Bring your family and friends along to marvel at the wonder of these glowing winged beetles (also known as lightning bugs). Begin your firefly viewing experience by gathering to learn about these special creatures from local experts. You'll be able to pick from a few options for firefly-viewing hikes throughout the Arboretum grounds. We'll note which route offers the best viewing each night and kick off every evening with an outdoor program in the Ordway Picnic Shelter & Trex Deck\, featuring nocturnal experts and storytellers from 8:30-9:15 p.m.\, followed by a Q&A. Visit the website for ticketing.
X-ALT-DESC;FMTTYPE=text/html:<p>Experience the magic of summer nights at the Arb with hundreds of fireflies flashing through the sky! Bring your family and friends along to marvel at the wonder of these glowing winged beetles (also known as lightning bugs). Begin your firefly viewing experience by gathering to learn about these special creatures from local experts. You&rsquo\;ll be able to pick from a few options for firefly-viewing hikes throughout the Arboretum grounds. We&rsquo\;ll note which route offers the best viewing each night and kick off every evening with an outdoor program in the Ordway Picnic Shelter &amp\; Trex Deck\, featuring nocturnal experts and storytellers from 8:30-9:15 p.m.\, followed by a Q&amp\;A. Visit the website for ticketing.</p>\n
LOCATION:MN Landscape Arboretum 3675 Arboretum Dr Chaska\, MN 55318
UID:e.498.14686
SEQUENCE:3
DTSTAMP:20260422T051136Z
URL:https://business.swmetrochamber.com/events/details/firefly-viewing-nights-07-12-2024-14686
END:VEVENT

END:VCALENDAR
