BEGIN:VCALENDAR
VERSION:2.0
PRODID:-//ChamberMaster//Event Calendar 2.0//EN
METHOD:PUBLISH
X-PUBLISHED-TTL:P3D
REFRESH-INTERVAL:P3D
CALSCALE:GREGORIAN
BEGIN:VEVENT
DTSTART:20230708T013000Z
DTEND:20230708T033000Z
X-MICROSOFT-CDO-ALLDAYEVENT:FALSE
SUMMARY:Firefly Viewing Nights
DESCRIPTION:Experience the magic of summer nights at the Arb with hundreds of fireflies flashing through the sky! Marvel at the wonder of these glowing\, winged beetles and learn about these special creatures from local experts and Master Naturalists. Every week features a different nighttime creature and this week (July 6\,7\,8) it is frogs! Please register online\, $5/Members and $20/Nonmembers.
X-ALT-DESC;FMTTYPE=text/html:<span style="font-family:trebuchet ms\,helvetica neue\,helvetica\,tahoma\,sans-serif\; font-size:16px">Experience the magic of summer nights at the Arb with hundreds of fireflies flashing through the sky! Marvel at the wonder of these glowing\, winged beetles and learn about these special creatures from local experts and Master Naturalists. Every week features a different nighttime creature and this week (July 6\,7\,8</span><span style="font-family:trebuchet ms\,helvetica neue\,helvetica\,tahoma\,sans-serif\; font-size:16px">) it is frogs</span><span style="font-family:trebuchet ms\,helvetica neue\,helvetica\,tahoma\,sans-serif\; font-size:16px">! Please register online\, $5/Members and $20/Nonmembers.</span>
LOCATION:MN Landscape Arboretum 3675 Arboretum Dr Chaska\, MN 55318
UID:e.498.13082
SEQUENCE:3
DTSTAMP:20260423T185308Z
URL:https://business.swmetrochamber.com/events/details/firefly-viewing-nights-07-07-2023-13082
END:VEVENT

END:VCALENDAR
