BEGIN:VCALENDAR
VERSION:2.0
PRODID:-//ChamberMaster//Event Calendar 2.0//EN
METHOD:PUBLISH
X-PUBLISHED-TTL:P3D
REFRESH-INTERVAL:P3D
CALSCALE:GREGORIAN
BEGIN:VEVENT
DTSTART:20230623T013000Z
DTEND:20230623T033000Z
X-MICROSOFT-CDO-ALLDAYEVENT:FALSE
SUMMARY:Firefly Viewing Nights
DESCRIPTION:Experience the magic of summer nights at the Arb with hundreds of fireflies flashing through the sky! Marvel at the wonder of these glowing\, winged beetles and learn more about them from local experts and Master Naturalists. Every week features a different nighttime creature that can also be spotted\, this week it is bats! Please pre-register online for this event.
X-ALT-DESC;FMTTYPE=text/html:Experience the magic of summer nights at the Arb with hundreds of fireflies flashing through the sky! Marvel at the wonder of these glowing\, winged beetles and learn more about them from local experts and Master Naturalists. Every week features a different nighttime creature that can also be spotted\, this week it is bats! Please pre-register online for this event.&nbsp\;
LOCATION:MN Landscape Arboretum 3675 Arboretum Dr Chaska\, MN 55318
UID:e.498.13075
SEQUENCE:3
DTSTAMP:20260423T164006Z
URL:https://business.swmetrochamber.com/events/details/firefly-viewing-nights-06-22-2023-13075
END:VEVENT

END:VCALENDAR
