BEGIN:VCALENDAR
VERSION:2.0
PRODID:-//ChamberMaster//Event Calendar 2.0//EN
METHOD:PUBLISH
X-PUBLISHED-TTL:P3D
REFRESH-INTERVAL:P3D
CALSCALE:GREGORIAN
BEGIN:VEVENT
DTSTART:20230624T150000Z
DTEND:20230624T210000Z
X-MICROSOFT-CDO-ALLDAYEVENT:FALSE
SUMMARY:Family Fun at the Farm
DESCRIPTION:Bring your family and friends for a fun\, hands-on learning experience at the Farm at the Arboretum's Red Barn. Meet MN food growers\, taste plant-to-plate samples\, explore the games and tour all the crops. Included in gate admission\, be sure to pre-register on the website.
X-ALT-DESC;FMTTYPE=text/html:<div>Bring your family and friends for a fun\, hands-on learning experience at the Farm at the Arboretum&#39\;s Red Barn. Meet MN food growers\, taste plant-to-plate samples\, explore the games and tour all the crops. Included in gate admission\, be sure to pre-register on the website.</div>\n\n<div>&nbsp\;</div>\n
LOCATION:MN Landscape Arboretum (Red Barn) 3675 Arboretum Dr Chaska\, MN 55318
UID:e.498.13084
SEQUENCE:3
DTSTAMP:20260423T151324Z
URL:https://business.swmetrochamber.com/events/details/family-fun-at-the-farm-13084
END:VEVENT

END:VCALENDAR
